BEGIN:VCALENDAR
VERSION:2.0
PRODID:-//wp-events-plugin.com//7.2.3.1//EN
TZID:Europe/Warsaw
X-WR-TIMEZONE:Europe/Warsaw
BEGIN:VEVENT
UID:51787@night4u.pl
DTSTART;TZID=Europe/Warsaw:20241220T220000
DTEND;TZID=Europe/Warsaw:20241221T010000
DTSTAMP:20241217T224058Z
URL:https://night4u.pl/wydarzenia/%e2%98%85-male-swieta-%e2%98%85-dj-merqu
 s-%e2%98%85-friday-20-12-%e2%98%85/
SUMMARY:★ MAŁE Święta ★ DJ Merqus ★ Friday 20.12 ★
DESCRIPTION:★ MAŁE Święta ★ DJ Merqus ★ Friday 20.12 ★\n\n🎅
 🎄🎉 Cześć\, Klubowicze! 🎉🎄🎅\n\nMamy dla Was niesamowitą w
 iadomość! 20 grudnia 2023 roku o godzinie 22:00 zapraszamy Was na wyjąt
 kowe wydarzenie w klubie TEATR! 🥳\n\nPrzygotujcie się na niezapomnian
 ą imprezę pod tytułem "MAŁE Święta" - zabierzemy Was w magiczny świ
 at Bożego Narodzenia! 🌟🎁\n\nNa naszej imprezie zatracicie się w kl
 imacie świąt\, otoczeni świątecznymi dekoracjami i migoczącymi świat
 ełkami 🎅🤶\nCzekają na Was liczne atrakcje\, które umilą Wam wiec
 zór w wyjątkowy sposób. Będziecie mogli zatracić się w tańcu przy 
 świątecznej muzyce i skorzystać z pysznego menu bożonarodzeniowego. 
 🍽️🎶\n\nNie zapomnijcie o swoich świątecznych stylizacjach! Ubier
 zcie swoje najpiękniejsze swetry z reniferami\, czapki Mikołaja i błysz
 czące dodatki\, aby w pełni poczuć ducha Świąt. 🎄✨\n\nNie możem
 y się doczekać\, aby Was wszystkich widzieć w klubie TEATR 22 grudnia o
  godzinie 22:00! 💃🕺\n\nZapraszamy Was do dołączenia do wydarzenia 
 i podzielenia się nim z Waszymi bliskimi. Niech "Małe Święta" będą d
 oskonałym sposobem na rozpoczęcie tegorocznych Świąt 🎄✨\n\nZa Św
 iąteczną konsoletą DJ Merqus 🎅🎉\n________________________________
 ________\nStart: 22:00\n★ DRESS CODE ★\nSMART CASUAL!\nWstęp / +18 SE
 LEKCJA\nVIP CARD - CAŁĄ NOC\n________________________________________\n
 ★ RESERVATIONS ★\ntel.: +48 508 508 488 (pn-sob: 12:00-20:00)\n_______
 _________________________________\n★ CONTACT ★\nTEATR CLUB\nul. Monius
 zki4a\nŁódź 90-111\n________________________________________
ATTACH;FMTTYPE=image/jpeg:https://night4u.pl/wp-content/uploads/2024/12/
 -MALE-Swieta-★-DJ-Merqus-★-Friday-20.12-★.jpg
CATEGORIES:łódzkie
LOCATION:Teatr Club - Łódź\, Teatr Club - Łódź\, 
X-APPLE-STRUCTURED-LOCATION;VALUE=URI;X-ADDRESS=Teatr Club - Łódź\, ;X-A
 PPLE-RADIUS=100;X-TITLE=Teatr Club - Łódź:geo:0,0
END:VEVENT
BEGIN:VTIMEZONE
TZID:Europe/Warsaw
X-LIC-LOCATION:Europe/Warsaw
BEGIN:STANDARD
DTSTART:20241027T020000
TZOFFSETFROM:+0200
TZOFFSETTO:+0100
TZNAME:CET
END:STANDARD
END:VTIMEZONE
END:VCALENDAR