BEGIN:VCALENDAR
VERSION:2.0
PRODID:-//wp-events-plugin.com//7.2.3.1//EN
TZID:Europe/Warsaw
X-WR-TIMEZONE:Europe/Warsaw
BEGIN:VEVENT
UID:29918@night4u.pl
DTSTART;TZID=Europe/Warsaw:20191110T210000
DTEND;TZID=Europe/Warsaw:20191111T050000
DTSTAMP:20191110T161050Z
URL:https://night4u.pl/wydarzenia/%e2%98%85-malik-montana-%e2%98%85-niedzi
 ela-10-11-%e2%98%85-jagodzianki-w-imperium/
SUMMARY:★ MALIK Montana ★ Niedziela 10/11 ★ Jagodzianki w Imperium
DESCRIPTION:★ MALIK MONTANA ★ Dj FRODO ★ Niedziela 10/11 ★ Imperium
  Bolesławiec. Start godz.21.\n"Jagodzianki"\, "Pistolet"\, "Robię Yeah"\
 , "Naaajak"\, "Who You Mam"\, "Do Rana" czy "Pierwszy nos" to szlagiery Ma
 lika i obowiązkowe\, koncertowe propozycje których na pewno nie zabrakni
 e!\nMALIK MONTANA - jeden z najbardziej charakterystycznych polskich raper
 ów odwiedzi Imperium w Bolesławcu!\nObecnie promuje na koncertach solow
 ą płytę „Import/Export”.\nW świadomości polskich słuchaczy pojaw
 ił się nagle\, jednak zrobił to naprawdę z klasą. Wcześniej znany by
 ł ze współpracy z amerykańskimi rap-gwiazdami jak np. Jadakiss\, czy C
 apone z duetu Capone-N-Noreaga. \n\nZnane kawałki Malika:\n► Jagodziank
 i: https://www.youtube.com/watch?v=JcV-q-Mv06U\n► Robie Yeah: www.youtub
 e.com/watch?v=u9sz3_Avmlo\n► Pistolet: www.youtube.com/watch?v=ZLieEQrIl
 xQ\n► Who you man: www.youtube.com/watch?v=8nzQnvbAYt8\n► Naaajak: www
 .youtube.com/watch?v=2mztrtfFFos\n► Baby same przyjdą: www.youtube.com/
 watch?v=CeS0KsbgTHw\n► Do Rana: www.youtube.com/watch?v=DXbb7Pgw9ao\n►
  Powiedz co: www.youtube.com/watch?v=xTgpcJ039sU\n► Big Poppa: www.youtu
 be.com/watch?v=f7BbvHA1nD0\n► 1Szy Nos: www.youtube.com/watch?v=peb4bmXh
 vm4\n► Pelikan: www.youtube.com/watch?v=KnAQDrUfGKM\n\n★ Koncert godz.
  01-00.\n★ Wstęp 16+\n★ Bilety w dniu koncertu do nabycia w kasie klu
 bu w cenie 25 - 30 PLN.\nRezerwacja loży tel.605436373.\n\nKONKURS - MALI
 K MONTANA - niedziela 10/11!!!\nDo wygrania %%% zestaw startowy lub 10 wej
 ściówek - wystarczy polubić wydarzenie i zaprosić minimum 100 znajomyc
 h\, a w komentarzu należy wpisać zaproszoną ilość osób!!!\nWyniki ni
 edziela 10/11 godz.19.
ATTACH;FMTTYPE=image/jpeg:https://night4u.pl/wp-content/uploads/2019/10/68
 945_image_70933676_2690422027634795_2727192963242262528_o.jpg
CATEGORIES:dolnośląskie
LOCATION:Klub Imperium\, ul. Gdańska 29\, Bolesławiec\, 59-700\, Poland
GEO:51.260342;15.55112
X-APPLE-STRUCTURED-LOCATION;VALUE=URI;X-ADDRESS=ul. Gdańska 29\, Bolesław
 iec\, 59-700\, Poland;X-APPLE-RADIUS=100;X-TITLE=Klub Imperium:geo:51.2603
 42,15.55112
END:VEVENT
BEGIN:VTIMEZONE
TZID:Europe/Warsaw
X-LIC-LOCATION:Europe/Warsaw
BEGIN:STANDARD
DTSTART:20191027T020000
TZOFFSETFROM:+0200
TZOFFSETTO:+0100
TZNAME:CET
END:STANDARD
END:VTIMEZONE
END:VCALENDAR