BEGIN:VCALENDAR
VERSION:2.0
PRODID:-//wp-events-plugin.com//7.2.3.1//EN
TZID:Europe/Warsaw
X-WR-TIMEZONE:Europe/Warsaw
BEGIN:VEVENT
UID:24677@night4u.pl
DTSTART;TZID=Europe/Warsaw:20190814T210000
DTEND;TZID=Europe/Warsaw:20190815T070000
DTSTAMP:20190815T220748Z
URL:https://night4u.pl/wydarzenia/%e2%98%85-maraton-time-4-vixa-turbo-edyc
 ja-%e2%98%85-14-08-sroda/
SUMMARY:★ Maraton Time 4 Vixa - #turbo edycja! ★ 14/08 - środa
DESCRIPTION:Czas na najgrubszy maraton w historii klubu! ? Tym razem jeśli
  siły pozwolą zagramy dłużej niż do 7:00 ? ?\n\n⛔ 14/08 - ŚRODA! D
 O 22 ? 10 PLN ⛔\n\nW SKŁADZIE :\n\n➡️ GÓRSKI\n➡️ BVX\n➡️ P
 1NX\n➡️ GASHMAKER\n➡️ ENDRIU\n➡️ MR CHEEZ\n➡️ DĄBER\n➡
 ️ HU BISS\n➡️ JOK3R\n\nZapamiętacie ta edycję na długo - więcej 
 info wkrotce.. ? DOPISUJCIE SIE! ?
ATTACH;FMTTYPE=image/jpeg:https://night4u.pl/wp-content/uploads/2019/08/58
 024_image_67961493_1271751942949248_3094421776675897344_o.jpg
CATEGORIES:wielkopolskie
LOCATION:Magnes CLUB Wtórek\, Wtórek\, Poland
GEO:51.635558;17.901188
X-APPLE-STRUCTURED-LOCATION;VALUE=URI;X-ADDRESS=Wtórek\, Poland;X-APPLE-RA
 DIUS=100;X-TITLE=Magnes CLUB Wtórek:geo:51.635558,17.901188
END:VEVENT
BEGIN:VTIMEZONE
TZID:Europe/Warsaw
X-LIC-LOCATION:Europe/Warsaw
BEGIN:DAYLIGHT
DTSTART:20190331T030000
TZOFFSETFROM:+0100
TZOFFSETTO:+0200
TZNAME:CEST
END:DAYLIGHT
END:VTIMEZONE
END:VCALENDAR