BEGIN:VCALENDAR
VERSION:2.0
PRODID:-//wp-events-plugin.com//7.2.3.1//EN
TZID:Europe/Warsaw
X-WR-TIMEZONE:Europe/Warsaw
BEGIN:VEVENT
UID:43697@night4u.pl
DTSTART;TZID=Europe/Warsaw:20200201T210000
DTEND;TZID=Europe/Warsaw:20200202T050000
DTSTAMP:20200131T184714Z
URL:https://night4u.pl/wydarzenia/%e2%98%85-meski-wieczor-vol-2-%e2%98%85/
SUMMARY:★ Męski Wieczór vol. 2 ★
DESCRIPTION:Szanowni Dżentelmeni zapraszamy Was na drugi "Męski Wieczór"
  w naszym klubie\, ta noc będzie należeć właśnie do Was!🤵😎 \nTe
 go wieczoru na naszym parkiecie usłyszycie dużo typowego "Męskiego Gran
 ia"🕺😎 \nW przerwach od zabawy będziecie mogli usiąść wygodnie w 
 lożach i zagrać w karty\, które będą czekać na naszych stolikach. 
 😎\nTen wspaniały czas umili Wasz ulubiony trunek\, czyli whisky!🥃\n
 Jack Daniels\, Jameson i Ballantines będzie dostępny dla Was tej nocy w 
 w extra promocyjnej cenie!😋\nDla prawdziwych dżentelmenów przygotowal
 iśmy specjalne odznaki\, po otrzymaniu których będzie czekać na Was ni
 espodzianka na naszym barze.😎\nDo dobrej zabawy potrzebne są oczywiśc
 ie Panie\, które tej nocy również serdecznie zapraszamy na to wydarzeni
 e!🤗😉\n\nDress code: smart casual 👔👗| Wiek: 21+\n\n⬇️Rezerw
 acje loży⬇️\nhttp://www.emenago.com/i/manhattanclub lub tel. 607 929 
 291\nKwota w całości do wykorzystania na barze!🤗🥳🍹\n\nMuzyka:\n
 Rezydenci - Mariush &amp\; Deepblake 🎧\n\nDo zobaczenia na parkiecie! 
 🙌
ATTACH;FMTTYPE=image/jpeg:https://night4u.pl/wp-content/uploads/2020/01/13
 9921_image_82891634_2430269890567564_8204413216499957760_o.jpg
CATEGORIES:wielkopolskie
LOCATION:Manhattan CLUB Czekanów\, ul. Lewkowska 3\, Czekanów\, 63-410\, 
 Poland
GEO:51.676203;17.869596
X-APPLE-STRUCTURED-LOCATION;VALUE=URI;X-ADDRESS=ul. Lewkowska 3\, Czekanów
 \, 63-410\, Poland;X-APPLE-RADIUS=100;X-TITLE=Manhattan CLUB Czekanów:geo
 :51.676203,17.869596
END:VEVENT
BEGIN:VTIMEZONE
TZID:Europe/Warsaw
X-LIC-LOCATION:Europe/Warsaw
BEGIN:STANDARD
DTSTART:20191027T020000
TZOFFSETFROM:+0200
TZOFFSETTO:+0100
TZNAME:CET
END:STANDARD
END:VTIMEZONE
END:VCALENDAR