BEGIN:VCALENDAR
VERSION:2.0
PRODID:-//wp-events-plugin.com//7.2.3.1//EN
TZID:Europe/Warsaw
X-WR-TIMEZONE:Europe/Warsaw
BEGIN:VEVENT
UID:40158@night4u.pl
DTSTART;TZID=Europe/Warsaw:20191228T210000
DTEND;TZID=Europe/Warsaw:20191229T050000
DTSTAMP:20191227T184720Z
URL:https://night4u.pl/wydarzenia/%e2%98%85-misz-masz-vol-2-muzyczne-podsu
 mowanie-roku-%e2%98%85/
SUMMARY:★ Misz-masz Vol.2 - Muzyczne Podsumowanie Roku ★
DESCRIPTION:"Misz-masz" jak sama nazwa wskazuje\, to impreza\, na której m
 ożecie spodziewać się totalnego mixu muzycznego.🎚🎛🤩\nTej nocy 
 wrzucamy w wirówkę najlepsze hity\, przy których bawiliście się świe
 tnie na naszych wydarzeniach i serwujemy je Wam\, aż po blady świt! 🌪
 🌞\n\nKończymy powoli 2019 rok\, więc tym razem zagramy największe i 
 najlepsze przeboje\, które królowały na parkietach właśnie tego roku!
  🕺💃\n\nTej nocy jesteśmy również otwarci na Wasze propozycje muzy
 czne!📀🤗 \nW wydarzeniu możecie wrzucać swoje ulubione numery roku 
 2019\, a nasi rezydenci postarają się o to\, aby nie zabrakło ich tej n
 ocy na parkiecie! 🤗\n\nDress code: smart casual 👔👗| Wiek: 21+\n\n
 ⬇️Rezerwacje loży⬇️\nhttp://www.emenago.com/i/manhattanclub lub t
 el. 607 929 291\nKwota w całości do wykorzystania na barze!🤗🥳🍹\
 n\nMuzyka: Mariush &amp\; Deepblake 🎧\n\nDo zobaczenia na parkiecie! 
 🙌
ATTACH;FMTTYPE=image/jpeg:https://night4u.pl/wp-content/uploads/2019/12/12
 1076_image_79796419_2400568706871016_4317288369886330880_o.jpg
CATEGORIES:wielkopolskie
LOCATION:Manhattan CLUB Czekanów\, ul. Lewkowska 3\, Czekanów\, 63-410\, 
 Poland
GEO:51.676203;17.869596
X-APPLE-STRUCTURED-LOCATION;VALUE=URI;X-ADDRESS=ul. Lewkowska 3\, Czekanów
 \, 63-410\, Poland;X-APPLE-RADIUS=100;X-TITLE=Manhattan CLUB Czekanów:geo
 :51.676203,17.869596
END:VEVENT
BEGIN:VTIMEZONE
TZID:Europe/Warsaw
X-LIC-LOCATION:Europe/Warsaw
BEGIN:STANDARD
DTSTART:20191027T020000
TZOFFSETFROM:+0200
TZOFFSETTO:+0100
TZNAME:CET
END:STANDARD
END:VTIMEZONE
END:VCALENDAR