BEGIN:VCALENDAR
VERSION:2.0
PRODID:-//wp-events-plugin.com//7.2.3.1//EN
TZID:Europe/Warsaw
X-WR-TIMEZONE:Europe/Warsaw
BEGIN:VEVENT
UID:30186@night4u.pl
DTSTART;TZID=Europe/Warsaw:20191001T210000
DTEND;TZID=Europe/Warsaw:20191002T050000
DTSTAMP:20191003T225852Z
URL:https://night4u.pl/wydarzenia/%e2%98%85-noc-adaptacyjna-%e2%98%85-%e2%
 98%9b-1-10-wtorek-%e2%98%9b-cina-club/
SUMMARY:★ Noc Adaptacyjna ★ ☛ 1.10 - Wtorek ☛ Cina Club
DESCRIPTION:Chociaż gorące wakacje dobiegły już końca\, a na dworze pa
 nuje istnie zimowa temperartura u Nas nadal jest gorąco ! \nJuż w najbli
 ższy wtorek bedziemy witać wraz z wszystkimi studetami nowy imprezowy ro
 k pełen niespodzianek i zupełnie nowych imprez ! \n1 paździerika to dat
 a\, którą Wszyscy obowiązkowo wpisują sobie w imprezowy grafik! Widzim
 y sie w jedynym studenckim klubie Opola - Cina Club ! \n\nTej nocy zagra d
 la Was\, nasz rezydent Dj Triks \n\nStudenci do godziny 23:00 wstęp free.
  \nPo godzinie 23:00 tylko 7 zł wjazd ! \n\nPODSUMOWUJĄC : \n☛   Data:
  1.10 - WTOREK\n☛   Godzina: 21:00 \n☛   Miejsce: Cina Club \n\nBędzi
 e grubo albo wcale ! :P \n\nChcesz wygodnie leżakować na imprezie ? Reze
 rwuj - www.emenago.opole.pl
ATTACH;FMTTYPE=image/jpeg:https://night4u.pl/wp-content/uploads/2019/10/69
 632_image_71085668_2687365641327001_5050864553500344320_o.jpg
CATEGORIES:opolskie
LOCATION:Cina Club\, Katowicka 55\, Opole\, 45-061\, Poland
GEO:50.667448;17.93523
X-APPLE-STRUCTURED-LOCATION;VALUE=URI;X-ADDRESS=Katowicka 55\, Opole\, 45-0
 61\, Poland;X-APPLE-RADIUS=100;X-TITLE=Cina Club:geo:50.667448,17.93523
END:VEVENT
BEGIN:VTIMEZONE
TZID:Europe/Warsaw
X-LIC-LOCATION:Europe/Warsaw
BEGIN:DAYLIGHT
DTSTART:20190331T030000
TZOFFSETFROM:+0100
TZOFFSETTO:+0200
TZNAME:CEST
END:DAYLIGHT
END:VTIMEZONE
END:VCALENDAR