BEGIN:VCALENDAR
VERSION:2.0
PRODID:-//wp-events-plugin.com//7.2.3.1//EN
TZID:Europe/Warsaw
X-WR-TIMEZONE:Europe/Warsaw
BEGIN:VEVENT
UID:48276@night4u.pl
DTSTART;TZID=Europe/Warsaw:20200307T210000
DTEND;TZID=Europe/Warsaw:20200308T060000
DTSTAMP:20200331T140704Z
URL:https://night4u.pl/wydarzenia/%e2%98%85-noc-kobiet-sobota-7-marca-2020
 /
SUMMARY:★ Noc Kobiet - sobota 7 marca 2020
DESCRIPTION:▼NOWY HIT▼\nhttps://youtu.be/UsxhR15W1jw\n\nTo będzie gor
 ąca noc\, noc kobiet! Nasze kochane panie mają swoje święto i w ten wi
 eczór zadbamy o nie jak najlepiej potrafimy Muzycznie zatroszczą się o 
 Was nasi rezydenci oraz specjalnie zaproszeni goście - Kuba &amp\; Neitan
 \, a szybsze bicie serc zapewni gorący show wysportowanych i nagich męsk
 ich ciał!\n\nGORĄCY CHIPPENDALES SHOW\n\nGOŚCIE SPECJALNI: DJ KUBA &amp
 \; NEITAN\n\nPANIE DO 22.00 WCHODZĄ ZA DARMO (DOTYCZY WEJŚCIA GŁÓWNEGO
 )\n\nOD 21.00 OTWARTE WEJŚCIE NR 2 (PŁATNE)\n\nGRAMY DO 6:00\n\nStart: 2
 1.00\nWstęp: 18+\nWEJŚCIE GŁÓWNE\nPanie (po 22.00): 20 zł\nPanowie (o
 d 21.00): 25 zł\nWEJŚCIE NR 2\nPanie (od 21.00): 20 zł\nPanowie (od 21.
 00): 25 zł\n\nZagrają:\nSala Club: DJ BOLiD (EDM / Melbourne / Big Room)
 \nSala Rnb: DJ Motyl (Hip Hop / Dancehall / Soul / RnB / Funky)\nSala Danc
 e: Kris (Dance / Disco / Oldschool / Crazy Hits)\nSala Extra: KARAOKE\n\nL
 js: Wilu | Lesiu | Papiok\n\nDO KLUBU NIE WCHODZIMY:\n- w odzieży sportow
 ej\n- w czapkach i bluzach z kapturem\n- z emblematami drużyn sportowych\
 n- w odzieży wojskowej (w tym bojówki\, moro itp.)\n- w klapkach\, japon
 kach\, glanach itp.\n\nREZERWACJA LOŻY:\nhttp://katowice.spiz.pl/rezerwac
 ja.htm\n\nWięcej na: www.katowice.spiz.pl\n\nDO ZOBACZENIA W KLUBIE
ATTACH;FMTTYPE=image/jpeg:https://night4u.pl/wp-content/uploads/2020/02/16
 3624_image_87157738_2740410532671597_6060582854797033472_n.jpg
CATEGORIES:śląskie
LOCATION:Klub Spiż Katowice\, Opolska 22\, Katowice\, 40-084\, Poland
GEO:50.262358;19.011315
X-APPLE-STRUCTURED-LOCATION;VALUE=URI;X-ADDRESS=Opolska 22\, Katowice\, 40-
 084\, Poland;X-APPLE-RADIUS=100;X-TITLE=Klub Spiż Katowice:geo:50.262358,
 19.011315
END:VEVENT
BEGIN:VTIMEZONE
TZID:Europe/Warsaw
X-LIC-LOCATION:Europe/Warsaw
BEGIN:STANDARD
DTSTART:20191027T020000
TZOFFSETFROM:+0200
TZOFFSETTO:+0100
TZNAME:CET
END:STANDARD
END:VTIMEZONE
END:VCALENDAR