BEGIN:VCALENDAR
VERSION:2.0
PRODID:-//wp-events-plugin.com//7.2.3.1//EN
TZID:Europe/Warsaw
X-WR-TIMEZONE:Europe/Warsaw
BEGIN:VEVENT
UID:24410@night4u.pl
DTSTART;TZID=Europe/Warsaw:20190810T210000
DTEND;TZID=Europe/Warsaw:20190811T040000
DTSTAMP:20190809T215046Z
URL:https://night4u.pl/wydarzenia/%e2%98%85-noc-rezydentow-%e2%98%85-adams
 -young-dee-%e2%98%85-club-kotwica-szymbark/
SUMMARY:★ Noc Rezydentów ★ Adams & Young Dee ★ Club Kotwica Szymbark
DESCRIPTION:W sobotę 10 sierpnia zapraszamy Was do naszego klubu na imprez
 ę z cyklu NOC REZYDENTÓW! Przez całą noc największe imprezowe hity b
 ędą prezentować Wasi ulubieni rezydenci Adams & Young Dee ? Dodatkowo p
 rzygotowaliśmy dla Was mega promocję na barze ? ? DO GODZ. 23:00 ALKO ZA
  PÓŁ CENY! ? A przez całą noc rozdajemy wejściówki do klubu oraz dri
 nki!\n\nTej imprezy nie możecie przegapić - bądźcie razem z nami! ?\n\
 n▬▬▬▬▬▬▬▬▬\n#INFO\nREZERWACJA LOŻY ? 608 638 424\n? Wst
 ęp: 15zł\n\nSzymbark\, ul. Sportowa 23\n▬▬▬▬▬▬▬▬▬\nWBI
 J DO NAS NA INSTA ▶ www.instagram.com/clubkotwica
ATTACH;FMTTYPE=image/jpeg:https://night4u.pl/wp-content/uploads/2019/08/57
 457_image_67879765_3103429109697042_7786882416110469120_o.jpg
CATEGORIES:pomorskie
LOCATION:Disco Club Kotwica\, Sportowa 23\, Szymbark\, 83-315\, Poland
GEO:54.229659;18.108067
X-APPLE-STRUCTURED-LOCATION;VALUE=URI;X-ADDRESS=Sportowa 23\, Szymbark\, 83
 -315\, Poland;X-APPLE-RADIUS=100;X-TITLE=Disco Club Kotwica:geo:54.229659,
 18.108067
END:VEVENT
BEGIN:VTIMEZONE
TZID:Europe/Warsaw
X-LIC-LOCATION:Europe/Warsaw
BEGIN:DAYLIGHT
DTSTART:20190331T030000
TZOFFSETFROM:+0100
TZOFFSETTO:+0200
TZNAME:CEST
END:DAYLIGHT
END:VTIMEZONE
END:VCALENDAR