BEGIN:VCALENDAR
VERSION:2.0
PRODID:-//wp-events-plugin.com//7.2.3.1//EN
TZID:Europe/Warsaw
X-WR-TIMEZONE:Europe/Warsaw
BEGIN:VEVENT
UID:1468@night4u.pl
DTSTART;TZID=Europe/Warsaw:20181229T210000
DTEND;TZID=Europe/Warsaw:20181230T040000
DTSTAMP:20181228T234519Z
URL:https://night4u.pl/wydarzenia/%e2%98%85-noc-swirow-29-12-18-%e2%98%85/
SUMMARY:★ Noc Świrów // 29.12.18 ★
DESCRIPTION:? 29.12.2018 - Club Corrado - Suchowola ?\n\nMamy przyjemność
  zaprosić Was na ostatnią w tym roku edycję naszej flagowej imprezy pod
  nazwą "NOC ŚWIRÓW" ?\n\nVixiarskie podsumowanie roku! ?\n\n☢ NOC ŚW
 IRÓW ☢\n\nSpecjalnie dla Was zagrają : \n\n⭐ Dąber\n⭐ SOUND BASS\
 n⭐ KNASSIX\n\nStandardowo nie zabraknie Naszych Rezydentów : \n? MATSON
 \n? DJ GUMA\n? KORDO\n\n⬇ Weź udział w Wydarzeniu i zgarnij darmowe we
 jście ⬇ \n★ Noc Świrów // 29.12.18 ★\n___________________________
 _________________\n⏰ Start - 21:00\n♥ ♥ ♥ ♥ ♥ ♥ ♥ ♥ ♥ 
 ♥ ♥ ♥ ♥ ♥ ♥ ♥ ♥ ♥ ♥ ♥\nPAMIĘTAJCIE ! WSZYSCY NA CC 
 !
ATTACH;FMTTYPE=image/jpeg:https://night4u.pl/wp-content/uploads/2018/12/68
 28_image_49106221_1978283375552196_8402898352626204672_o.jpg
CATEGORIES:lubelskie
LOCATION:Club Corrado - Suchowola\, województwo Lubelskie\, Suchowola\, 21
 -305\, Poland
GEO:51.701422;22.729619
X-APPLE-STRUCTURED-LOCATION;VALUE=URI;X-ADDRESS=województwo Lubelskie\, Su
 chowola\, 21-305\, Poland;X-APPLE-RADIUS=100;X-TITLE=Club Corrado - Suchow
 ola:geo:51.701422,22.729619
END:VEVENT
BEGIN:VTIMEZONE
TZID:Europe/Warsaw
X-LIC-LOCATION:Europe/Warsaw
BEGIN:STANDARD
DTSTART:20181028T020000
TZOFFSETFROM:+0200
TZOFFSETTO:+0100
TZNAME:CET
END:STANDARD
END:VTIMEZONE
END:VCALENDAR