BEGIN:VCALENDAR
VERSION:2.0
PRODID:-//wp-events-plugin.com//7.2.3.1//EN
TZID:Europe/Warsaw
X-WR-TIMEZONE:Europe/Warsaw
BEGIN:VEVENT
UID:40831@night4u.pl
DTSTART;TZID=Europe/Warsaw:20191227T200000
DTEND;TZID=Europe/Warsaw:20191228T040000
DTSTAMP:20191227T184124Z
URL:https://night4u.pl/wydarzenia/%e2%98%85-piatkowa-domowka-%e2%98%85-50-
 bar-do-22-30-%e2%98%85-11/
SUMMARY:★ Piątkowa Domówka ★ 50% Bar do 22.30 ★
DESCRIPTION:➤ KLUBO FLOOR - MASHUP PARTY:\nHip-Hop\, R'n'B\, Mash-up\, Pa
 rty Rock - Dj Loo\n\n➤ PROMOCJA ZIMOWA do 22.30!\nPROMOCJA 50% - na wszy
 stko z baru poza piwem i papierosami\nnp. wódka od 3zł\, drinki od 4\,5z
 ł!!!!\n\n➤ WSTĘP:\nPanie: do godziny 22.30 - 0zł\, później 5zł\nPa
 nowie: do godziny 22.30 - 0zł\, później 10zł\n\nWstęp dla wszystkich 
 Studentów/Studentek oraz Pań od 20 lat i Panów od 23 lat. Zastrzegamy s
 obie możliwość sprawdzenia legitymacji studenckiej (studenci) lub dowod
 u osobistego (reszta świata). Dodatkowo obowiązuje selekcja:)
ATTACH;FMTTYPE=image/jpeg:https://night4u.pl/wp-content/uploads/2019/12/12
 5304_image_81037695_2821005967952174_4976645474221031424_o.jpg
CATEGORIES:śląskie
LOCATION:Bavitto\, Katowice\, Poland
GEO:50.254238;19.01828
X-APPLE-STRUCTURED-LOCATION;VALUE=URI;X-ADDRESS=Katowice\, Poland;X-APPLE-R
 ADIUS=100;X-TITLE=Bavitto:geo:50.254238,19.01828
END:VEVENT
BEGIN:VTIMEZONE
TZID:Europe/Warsaw
X-LIC-LOCATION:Europe/Warsaw
BEGIN:STANDARD
DTSTART:20191027T020000
TZOFFSETFROM:+0200
TZOFFSETTO:+0100
TZNAME:CET
END:STANDARD
END:VTIMEZONE
END:VCALENDAR