BEGIN:VCALENDAR
VERSION:2.0
PRODID:-//wp-events-plugin.com//7.2.3.1//EN
TZID:Europe/Warsaw
X-WR-TIMEZONE:Europe/Warsaw
BEGIN:VEVENT
UID:25883@night4u.pl
DTSTART;TZID=Europe/Warsaw:20190830T200000
DTEND;TZID=Europe/Warsaw:20190831T040000
DTSTAMP:20190830T163156Z
URL:https://night4u.pl/wydarzenia/%e2%98%85-piatkowa-domowka-%e2%98%85-50-
 bar-do-22-30-%e2%98%85-7/
SUMMARY:★ Piątkowa Domówka ★ 50% Bar do 22.30 ★
DESCRIPTION:➤ PIĄTKOWA PROMOCJA WAKACYJNA!\n➤ DO GODZ. 23.00 WSTĘP WO
 LNY ORAZ 50% PROMOCJI NA BARZE*\n* wszystko z karty menu poza piwem \n\n
 ➤ KLUBO FLOOR – BEST PARTY HITS:\nDance\, Black\, Pop & Oldschool - Dj
  Loo\n\n➤ ART FLOOR – DOBRZE ROCKUJĄCA IMPREZA:\nRock\, Pop-Rock\, Ro
 ck’n’Roll\, Reggae\, Elektronika - DJ MIŁY\n\n➤ WSTĘP:\nDo godziny
  23.00 - WSTĘP FREE.\nPóźniej Panie 5zł/ Panowie 10zł\n\nWstęp dla w
 szystkich Studentów/Studentek oraz Pań od 20 lat i Panów od 23 lat. Zas
 trzegamy sobie możliwość sprawdzenia legitymacji studenckiej (studenci)
  lub dowodu osobistego (reszta świata). Dodatkowo obowiązuje selekcja:)
ATTACH;FMTTYPE=image/jpeg:https://night4u.pl/wp-content/uploads/2019/08/60
 600_image_69505229_2567918053260968_7991567775615156224_o.jpg
CATEGORIES:śląskie
LOCATION:Bavitto\, Katowice\, Poland
GEO:50.254238;19.01828
X-APPLE-STRUCTURED-LOCATION;VALUE=URI;X-ADDRESS=Katowice\, Poland;X-APPLE-R
 ADIUS=100;X-TITLE=Bavitto:geo:50.254238,19.01828
END:VEVENT
BEGIN:VTIMEZONE
TZID:Europe/Warsaw
X-LIC-LOCATION:Europe/Warsaw
BEGIN:DAYLIGHT
DTSTART:20190331T030000
TZOFFSETFROM:+0100
TZOFFSETTO:+0200
TZNAME:CEST
END:DAYLIGHT
END:VTIMEZONE
END:VCALENDAR