BEGIN:VCALENDAR
VERSION:2.0
PRODID:-//wp-events-plugin.com//7.2.3.1//EN
TZID:Europe/Warsaw
X-WR-TIMEZONE:Europe/Warsaw
BEGIN:VEVENT
UID:48730@night4u.pl
DTSTART;TZID=Europe/Warsaw:20200228T200000
DTEND;TZID=Europe/Warsaw:20200229T040000
DTSTAMP:20200228T184123Z
URL:https://night4u.pl/wydarzenia/%e2%98%85-piatkowa-muzyczna-salatka-%e2%
 98%85-50-bar-do-22-30-%e2%98%85-3/
SUMMARY:★ Piątkowa Muzyczna Sałatka ★ 50% Bar do 22.30 ★
DESCRIPTION:➤ OPIS\nPo ciężkim wyczerpującym tygodniu nadchodzi ten d
 ługo wyczekiwany moment - piątkowe Bavitto - gdzie w doborowym towarzyst
 wie przy wyselekcjonowanej muzyce i nierzadko zbyt dużej ilości alkoholu
  możesz odstresować się i nabrać siły na resztę weekendu\;) \n\n➤ 
 KLUBO FLOOR – BEST PARTY HITS:\nDance\, Black\, Pop &amp\; Oldschool - D
 j Loo\n\n➤ ART FLOOR – DOBRZE ROCKUJĄCA IMPREZA:\nRock\, Pop-Rock\, R
 ock’n’Roll\, Reggae\, Elektronika - DJ MIŁY\n\n➤ PROMOCJA ZIMOWA do
  22.30!\nPROMOCJA 50% - na wszystko z baru poza piwem i papierosami\nnp. w
 ódka od 3zł\, drinki od 4\,5zł!!!!\n\n➤ WSTĘP:\nPanie: do godziny 22
 .30 - 0zł\, później 5zł\nPanowie: do godziny 22.30 - 0zł\, później 
 10zł\n\nWstęp dla wszystkich Studentów/Studentek oraz Pań od 20 lat i 
 Panów od 23 lat. Zastrzegamy sobie możliwość sprawdzenia legitymacji s
 tudenckiej (studenci) lub dowodu osobistego (reszta świata). Dodatkowo ob
 owiązuje selekcja:)
ATTACH;FMTTYPE=image/jpeg:https://night4u.pl/wp-content/uploads/2020/02/16
 6588_image_87292678_2959943054058464_6767741970178637824_o.jpg
CATEGORIES:śląskie
LOCATION:Bavitto\, Katowice\, Poland
GEO:50.254238;19.01828
X-APPLE-STRUCTURED-LOCATION;VALUE=URI;X-ADDRESS=Katowice\, Poland;X-APPLE-R
 ADIUS=100;X-TITLE=Bavitto:geo:50.254238,19.01828
END:VEVENT
BEGIN:VTIMEZONE
TZID:Europe/Warsaw
X-LIC-LOCATION:Europe/Warsaw
BEGIN:STANDARD
DTSTART:20191027T020000
TZOFFSETFROM:+0200
TZOFFSETTO:+0100
TZNAME:CET
END:STANDARD
END:VTIMEZONE
END:VCALENDAR