BEGIN:VCALENDAR
VERSION:2.0
PRODID:-//wp-events-plugin.com//7.2.3.1//EN
TZID:Europe/Warsaw
X-WR-TIMEZONE:Europe/Warsaw
BEGIN:VEVENT
UID:10425@night4u.pl
DTSTART;TZID=Europe/Warsaw:20190404T200000
DTEND;TZID=Europe/Warsaw:20190405T040000
DTSTAMP:20190318T195943Z
URL:https://night4u.pl/wydarzenia/%e2%98%85-polmetek-wpia-%e2%98%85/
SUMMARY:★ Półmetek WPiA ★
DESCRIPTION:Najwyższy czas\, żeby wytrwali Studenci trzeciego roku mogli 
 uczcić swój sukces – już połowa studiów za Wami! \n\nZapraszamy wsz
 ystkich do wspólnego świętowania! \n\nJuż 4 kwietnia w Klubie Bavitto 
 długo wyczekiwany Półmetek WPiA.\nNie może Cię tam zabraknąć!\n\n
 ★ SUPER PROMO LISTA FB ★\nDołącz do wydarzenia ("wezmę udział")\, 
 a znajdziesz się na specjalnej liście dzięki czemu:\ndo godziny 23.00 w
 ejdziesz do klubu za FREE oraz otrzymasz\n50% RABATU NA BARZE na wszystko 
 poza piwem i papierosami!\nListę drukujemy o godz. 19 w dniu imprezy.\n\n
 ★ CZWARTKOWA STUDENCKA STREFA CEN ★\nprzystępne\, łagodne dla studen
 ckiego portfela ceny przez całą noc!\nPIWO LANE - 5zł\nWÓDKA - 5zł\nS
 TREFA TANICH DRINKÓW - 7zł\n\n★ MUZYKA ★\n100% Studenckie klimaty by
  Dj Loo\n\n★ WSTĘP ★\nStudenci - do 23.00 - 0zł\, później 5zł\nRe
 szta - do 23.00 - 0zł\, później 7zł\n\nWstęp dla wszystkich Studentó
 w/Studentek oraz Pań od 20 lat i Panów od 23 lat. Zastrzegamy sobie moż
 liwość sprawdzenia legitymacji studenckiej (studenci) lub dowodu osobist
 ego (reszta świata). Dodatkowo obowiązuje selekcja:) \n\nZAPRASZAMY\nSam
 orząd Studencki WPiA
ATTACH;FMTTYPE=image/jpeg:https://night4u.pl/wp-content/uploads/2019/03/27
 518_image_54114893_2287918077927635_8081282542847655936_o.jpg
CATEGORIES:śląskie
LOCATION:Bavitto\, Katowice\, Poland
GEO:50.254238;19.01828
X-APPLE-STRUCTURED-LOCATION;VALUE=URI;X-ADDRESS=Katowice\, Poland;X-APPLE-R
 ADIUS=100;X-TITLE=Bavitto:geo:50.254238,19.01828
END:VEVENT
BEGIN:VTIMEZONE
TZID:Europe/Warsaw
X-LIC-LOCATION:Europe/Warsaw
BEGIN:DAYLIGHT
DTSTART:20190331T030000
TZOFFSETFROM:+0100
TZOFFSETTO:+0200
TZNAME:CEST
END:DAYLIGHT
END:VTIMEZONE
END:VCALENDAR