BEGIN:VCALENDAR
VERSION:2.0
PRODID:-//wp-events-plugin.com//7.2.3.1//EN
TZID:Europe/Warsaw
X-WR-TIMEZONE:Europe/Warsaw
BEGIN:VEVENT
UID:33236@night4u.pl
DTSTART;TZID=Europe/Warsaw:20191110T210000
DTEND;TZID=Europe/Warsaw:20191111T040000
DTSTAMP:20191110T215537Z
URL:https://night4u.pl/wydarzenia/%e2%98%85-project-x-vol-2-%e2%98%85-lege
 ndarny-melanz-%e2%98%85-futurysta-%e2%98%85-16/
SUMMARY:★ Project X vol. 2 ★ Legendarny Melanż ★ Futurysta ★ 16+
DESCRIPTION:★★ Party House prezentuje ★★\n\n►Project X vol. 2! 
 ► Legendarny Melanż ► 16+\n\n★★ 10 listopada 2019 ★★ Niedziel
 a (poniedziałek wolny!) ★★\n\nPonad 1\,5 roku temu nasza impreza pod 
 wszystkim dobrze znaną nazwą "Project X"  była jedną z najlepszych pod
 czas ferii zimowych 2018! W tym roku mamy zamiar to powtórzyć\, tym raze
 m z jeszcze większym przytupem! W niedzielę 10 listopada widzimy się w 
 klubie Futurysta (poniedziałek wolny!)\, by poczuć i bawić się niczym 
 na najlepszej amerykańskiej imprezie rodem z filmu "Project X"! 🍹\n\n
 ★★ Atrakcje! ★★\n\n► Pistolety na wodę\, wypełnione alkoholem!
 \n► Kilkaset charakterystycznych czerwonych kubeczków\, bez których ż
 adna domówka nie miałaby sensu!\n► Masa dmuchanych zabawek rodem z ame
 rykańskich domówek!\n► 30 Kuponów na bar\, które rozdawane będą dl
 a obecnych w klubie!\n► Standardowo przygotowaliśmy dla was aż 500 szt
 uk opasek FLUO\, aby dla nikogo nie zabrakło:\n💚 zielony - wolny/a\n
 ❤️ czerwony - zajęty/a\n► Profesjonalny fotograf\, który uwieczni 
 te niezapomniane chwile :D\n\n★★  Bilety★★ \n\n► Nie ma biletów
  w przedsprzedaży u promotorów. Bilety będą dostępne tylko w kasie kl
 ubu w trakcie trwania imprezy w cenie 20 PLN ★★\n\nPODSUMOWANIE:\n▬
 ▬▬▬▬▬▬▬▬\n✅ PROJECT X vol. 2 - LEGENDARNY MELANŻ\n✅ K
 LUB FUTURYSTA\, ŁÓDŹ\n✅ 10 LISTOPADA\, NIEDZIELA (poniedziałek wolny
 !)\n✅ START: 21:00\n✅ WSTĘP OD 16 LAT\n✅ WJAZD: 20 PLN w klubie /ni
 e ma przedsprzedaży/\n\n▬▬▬▬▬▬▬▬▬▬▬▬▬▬▬▬
 ▬▬▬▬▬▬▬▬▬▬▬\n\n❗️ WEJŚCIE FREE ❗️ WEJŚCIE 
 FREE ❗️\n\nKto pierwszy ten lepszy! Udostępnij wydarzenie i zaproś m
 in. 200 swoich znajomych i wrzuć w komentarzu zrzut ekranu jak zapraszasz
  oraz polub nasz fanpage:\nhttps://www.facebook.com/PLPartyHouse/\n\nWygry
 wa pierwszych 10 osób!
ATTACH;FMTTYPE=image/jpeg:https://night4u.pl/wp-content/uploads/2019/10/82
 194_image_72952422_1325705617602457_6141433866092544000_o.jpg
CATEGORIES:łódzkie
LOCATION:Klub Futurysta\, Al. Politechniki 7\, Łódź\, 93-590\, Poland
GEO:51.747169;19.450204
X-APPLE-STRUCTURED-LOCATION;VALUE=URI;X-ADDRESS=Al. Politechniki 7\, Łód
 ź\, 93-590\, Poland;X-APPLE-RADIUS=100;X-TITLE=Klub Futurysta:geo:51.7471
 69,19.450204
END:VEVENT
BEGIN:VTIMEZONE
TZID:Europe/Warsaw
X-LIC-LOCATION:Europe/Warsaw
BEGIN:STANDARD
DTSTART:20191027T020000
TZOFFSETFROM:+0200
TZOFFSETTO:+0100
TZNAME:CET
END:STANDARD
END:VTIMEZONE
END:VCALENDAR