BEGIN:VCALENDAR
VERSION:2.0
PRODID:-//wp-events-plugin.com//7.2.3.1//EN
TZID:Europe/Warsaw
X-WR-TIMEZONE:Europe/Warsaw
BEGIN:VEVENT
UID:43055@night4u.pl
DTSTART;TZID=Europe/Warsaw:20200116T200000
DTEND;TZID=Europe/Warsaw:20200117T040000
DTSTAMP:20200116T184129Z
URL:https://night4u.pl/wydarzenia/%e2%98%85-przedsesyjny-before-z-wns-vol2
 -bachata-kizomba-bomba-%e2%98%85/
SUMMARY:★ Przedsesyjny Before z WNS vol2 + Bachata Kizomba Bomba ★
DESCRIPTION:Jesteście zestresowani sesją? Na 100% tak. \nDlatego wasz sam
 orząd postanowił o was zadbać. Zapraszamy na przedsesyjny before do klu
 bu Bavitto 16.01.2020 to w ten dzień odetchniecie z ulgą\, emocje gwaran
 towane. \n\n★ Strefa KLUBO ★  \n➤Muzyka: STUDENCKI MIKS (Dance\, Bla
 ck\, Pop\, Rock\, Oldschool) - za konsolą -  Dj Loo\n\n★ Strefa ART ★
   \nPrzy współpracy z najpopularniejszą katowicką szkołą tańca GOOD
  MOOD\,  odbędzie się impreza w klimatach Bachaty oraz  Kizomby\, wraz z
  darmową lekcją tańca dla chętnych. \n➤Muzyka: Bachata &amp\; Kizomb
 a - za konsolą - Dj Kris / Krzysztof Wawrzyniak\n\n★ SUPER PROMO LISTA 
 FB ★\nDołącz do wydarzenia ("wezmę udział")\, a znajdziesz się na s
 pecjalnej liście dzięki czemu:\ndo godziny 23.00 wejdziesz do klubu za F
 REE oraz otrzymasz\n50% RABATU NA BARZE na wszystko poza piwem!\nListę dr
 ukujemy o godz. 19 w dniu imprezy.\n\n★ CZWARTKOWA STUDENCKA STREFA CEN 
 ★\nprzystępne\, łagodne dla studenckiego portfela ceny przez całą no
 c!\nPIWO LANE - 5zł\nWÓDKA - 5zł\nSTREFA TANICH DRINKÓW - 7zł\n\n★ 
 WSTĘP ★\nStudenci - do 23.00 - 0zł\, później 5zł\nReszta - do 23.00
  - 5zł*\, później 10zł\n\n* na hasło: "Bachata Kizomba Bomba" - wstę
 p bezpłatny :)\n\nWstęp dla wszystkich Studentów/Studentek oraz Pań od
  20 lat i Panów od 23 lat. Zastrzegamy sobie możliwość sprawdzenia leg
 itymacji studenckiej (studenci) lub dowodu osobistego (reszta świata). Do
 datkowo obowiązuje selekcja:)\n\nZAPRASZAMY\nSamorząd Studencki Wydział
 u Nauk Społecznych Uniwersytetu Śląskiego\nGood Mood
ATTACH;FMTTYPE=image/jpeg:https://night4u.pl/wp-content/uploads/2020/01/13
 7275_image_83059303_2871906799528757_3849041551988621312_o.jpg
CATEGORIES:śląskie
LOCATION:Bavitto\, Katowice\, Poland
GEO:50.254238;19.01828
X-APPLE-STRUCTURED-LOCATION;VALUE=URI;X-ADDRESS=Katowice\, Poland;X-APPLE-R
 ADIUS=100;X-TITLE=Bavitto:geo:50.254238,19.01828
END:VEVENT
BEGIN:VTIMEZONE
TZID:Europe/Warsaw
X-LIC-LOCATION:Europe/Warsaw
BEGIN:STANDARD
DTSTART:20191027T020000
TZOFFSETFROM:+0200
TZOFFSETTO:+0100
TZNAME:CET
END:STANDARD
END:VTIMEZONE
END:VCALENDAR