BEGIN:VCALENDAR
VERSION:2.0
PRODID:-//wp-events-plugin.com//7.2.3.1//EN
TZID:Europe/Warsaw
X-WR-TIMEZONE:Europe/Warsaw
BEGIN:VEVENT
UID:34415@night4u.pl
DTSTART;TZID=Europe/Warsaw:20191102T210000
DTEND;TZID=Europe/Warsaw:20191103T030000
DTSTAMP:20191103T010350Z
URL:https://night4u.pl/wydarzenia/%e2%98%85-queen-of-the-night-%e2%98%85-d
 ance-%e2%98%85-dj-feel-night-%e2%98%85-club-wyszynk/
SUMMARY:★ Queen of The Night ★ Dance ★ Dj Feel Night ★ Club Wyszynk
DESCRIPTION:W sobotę\, 2 listopada zapraszamy na imprezę "Queen of the Ni
 ght"\, podczas której zagra dla Was 🎧 DJ Feel Night. Zapowiada się gr
 uby i syty balet ❗ Każda z Pań\, będzie Królową Nocy ❗ Nie zwleka
 j\, zbieraj znajomych i wbijaj do Pub &amp\; Club Wyszynk😍 Otwieramy o 
 17:00\, z imprezą startujemy o 21:00\, bawimy do 03:00 ❗ \n\nWstęp do 
 22:00 - 5 zł\, po 22:00 - 10 zł. Masz urodziny w dniu imprezy? Wejdziesz
  za darmo ❗ Nasza imprezowa 🍕 kuchnia czynna jest do północy ❗\n\
 nPrzygotowaliśmy promki na barze: piwo Pilsner Urquell w cenie 7 zł\, Ja
 gerBomba w cenie 16 zł oraz  deska 10 shot'ów Kamikaze w cenie 40 zł 
 ❗\n\n☎ Rezerwacje loży pod numerem tel.: 731 846 556 lub 882 478 141 
 (również w formie SMS) ❗ Bezpłatne rezerwacje przyjmowane są 7 dni w
  tygodniu od godziny 9:00 do 20:00 ☎ Wybieracie się dużą ekipą\, chc
 ecie salę wyłącznie dla siebie? Zarezerwuj vip'owską salę do 20 osób
  w cenie 100 zł. ☎\n\n🎉 Chcesz zorganizować swoje urodziny\, imieni
 ny\, wieczór panieński\, czy kawalerski - ten dzień jest dla Ciebie. Zg
 łoś się do Nas (tel. 731 846 556 lub 882 478 141\, napisz: bar@wyszynk.
 com) ❗\n\n❌❌❌\n\nClub Wyszynk zastrzega sobie prawo do selekcji go
 ści i może odmówić wstępu bez podania przyczyny. Wstęp tylko dla os
 ób pełnoletnich. Obiekt monitorowany. Nie odpowiadamy za rzeczy pozostaw
 ione na terenie klubu. Regulamin klubu: www.wyszynk.com/regulamin-klubu/
ATTACH;FMTTYPE=image/jpeg:https://night4u.pl/wp-content/uploads/2019/11/88
 847_image_72685084_439316630055078_3786296860092661760_o.jpg
CATEGORIES:podkarpackie
LOCATION:Pub &amp\; Club Wyszynk\, Okrzei 1\, Krosno\, 38-400\, Poland
GEO:49.696929;21.761701
X-APPLE-STRUCTURED-LOCATION;VALUE=URI;X-ADDRESS=Okrzei 1\, Krosno\, 38-400\
 , Poland;X-APPLE-RADIUS=100;X-TITLE=Pub & Club Wyszynk:geo:49.696929,21.76
 1701
END:VEVENT
BEGIN:VTIMEZONE
TZID:Europe/Warsaw
X-LIC-LOCATION:Europe/Warsaw
BEGIN:STANDARD
DTSTART:20191027T020000
TZOFFSETFROM:+0200
TZOFFSETTO:+0100
TZNAME:CET
END:STANDARD
END:VTIMEZONE
END:VCALENDAR