BEGIN:VCALENDAR
VERSION:2.0
PRODID:-//wp-events-plugin.com//7.2.3.1//EN
TZID:Europe/Warsaw
X-WR-TIMEZONE:Europe/Warsaw
BEGIN:VEVENT
UID:20890@night4u.pl
DTSTART;TZID=Europe/Warsaw:20190706T210000
DTEND;TZID=Europe/Warsaw:20190707T050000
DTSTAMP:20190704T023414Z
URL:https://night4u.pl/wydarzenia/%e2%98%85-redds-drink-it-sanchez-en-vivo
 /
SUMMARY:★ Redd's Drink It! / Sanchez En Vivo
DESCRIPTION:Idealna receptura na upalne dni? Zimne i orzeźwiające drinki 
 napędzane marką Redd's. Przez całą noc nasi barmani zadbają o Wasze w
 ysublimowane podniebienia. \nWszystkie drinki absolutnie dla Wszystkich w 
 specjalnych promocyjnych cenach.\n\nSTAGE:\n★ SANCHEZ EN VIVO\n+ 21:00 :
 : Selekcja :: Dress Code :: Dress Casual\n\n► Wstęp \n♀ do 22 FREE / 
 po 22 - 10 PLN\n♂ do 23 - 10 PLN / po 23 - 15 PLN\nKarty VIP & Karty Clu
 bowe / Wstęp Darmowy
ATTACH;FMTTYPE=image/jpeg:https://night4u.pl/wp-content/uploads/2019/07/49
 982_image_65720498_2241566395922817_1709089751912415232_o.jpg
CATEGORIES:opolskie
LOCATION:Sofa Music Club\, Oleska 102\, Opole\, 45-231\, Poland
GEO:50.681382;17.941253
X-APPLE-STRUCTURED-LOCATION;VALUE=URI;X-ADDRESS=Oleska 102\, Opole\, 45-231
 \, Poland;X-APPLE-RADIUS=100;X-TITLE=Sofa Music Club:geo:50.681382,17.9412
 53
END:VEVENT
BEGIN:VTIMEZONE
TZID:Europe/Warsaw
X-LIC-LOCATION:Europe/Warsaw
BEGIN:DAYLIGHT
DTSTART:20190331T030000
TZOFFSETFROM:+0100
TZOFFSETTO:+0200
TZNAME:CEST
END:DAYLIGHT
END:VTIMEZONE
END:VCALENDAR