BEGIN:VCALENDAR
VERSION:2.0
PRODID:-//wp-events-plugin.com//7.2.3.1//EN
TZID:Europe/Warsaw
X-WR-TIMEZONE:Europe/Warsaw
BEGIN:VEVENT
UID:31722@night4u.pl
DTSTART;TZID=Europe/Warsaw:20191129T210000
DTEND;TZID=Europe/Warsaw:20191130T040000
DTSTAMP:20191129T094921Z
URL:https://night4u.pl/wydarzenia/%e2%98%85-ronnie-ferrari-%e2%98%85-ona-b
 y-tak-chciala-%e2%98%85-29-11-explosion-potegowo/
SUMMARY:★ Ronnie Ferrari ★ Ona By Tak Chciała ★ 29.11 Explosion Pot
 ęgowo
DESCRIPTION:Twórca mega hitu wakacji ONA BY TAK CHCIAŁA - Ronnie Ferrari 
 w Explosion!\n\n🎫 Bilety online ▶️ www.explosion-potegowo.superboss
 .pl/\n\nJuż 29 listopada w piątek zapraszamy na najgłośniejszą imprez
 ę ! Twórca wielkiego hitu\, który na miesiąc po premierze ma już 56 m
 ilionów odtworzeń na YouTube - RONNIE FERRARI zaśpiewa na żywo w naszy
 m klubie! Nie możecie przegapić tego wyjątkowego wydarzenia. To będzie
  MEGA ogień 🔥\n\n#INFO\n―――――――\n📅 PIĄTEK 29.11\n
 🕘 Start: 21:00\n🎫 BILETY: \nI PULA - PRZEDSPRZEDAŻ - 20\,00zł (tyl
 ko 100 biletów) ❌ SOLD OUT\nII PULA - PRZEDSPRZEDAŻ - 25\,00zł \nIII 
 PULA - w dniu imprezy w kasach biletowych - 30\,00zł\n\nGorąco zapraszam
 y 🔥✌
ATTACH;FMTTYPE=image/jpeg:https://night4u.pl/wp-content/uploads/2019/11/74
 900_image_74227303_2460989544014978_5768039661465239552_o.jpg
CATEGORIES:pomorskie
LOCATION:Explosion Club Potęgowo\, Potęgowo 9\, Linia\, 84-223\, Poland
GEO:54.422316;17.927878
X-APPLE-STRUCTURED-LOCATION;VALUE=URI;X-ADDRESS=Potęgowo 9\, Linia\, 84-22
 3\, Poland;X-APPLE-RADIUS=100;X-TITLE=Explosion Club Potęgowo:geo:54.4223
 16,17.927878
END:VEVENT
BEGIN:VTIMEZONE
TZID:Europe/Warsaw
X-LIC-LOCATION:Europe/Warsaw
BEGIN:STANDARD
DTSTART:20191027T020000
TZOFFSETFROM:+0200
TZOFFSETTO:+0100
TZNAME:CET
END:STANDARD
END:VTIMEZONE
END:VCALENDAR