BEGIN:VCALENDAR
VERSION:2.0
PRODID:-//wp-events-plugin.com//7.2.3.1//EN
TZID:Europe/Warsaw
X-WR-TIMEZONE:Europe/Warsaw
BEGIN:VEVENT
UID:30181@night4u.pl
DTSTART;TZID=Europe/Warsaw:20190921T210000
DTEND;TZID=Europe/Warsaw:20190922T040000
DTSTAMP:20191003T225335Z
URL:https://night4u.pl/wydarzenia/%e2%98%85-ronnie-ferrari-%e2%98%85-ona-b
 y-tak-chciala-%e2%98%85-club-ariffana-21-09/
SUMMARY:★ Ronnie Ferrari ★ Ona by tak chciała ★ Club Ariffana [21.09
 ]
DESCRIPTION:Po krótkiej przerwie wakacyjnej powracamy z najlepszymi imprez
 ami w klubie ARIFFANA! 😍🔥\nZapraszamy gorąco już w najbliższą so
 botę! :)\n\n➡ SOBOTA - 21.09.2019\n\n⭐ Ronnie Ferrari ⭐\ntwórca hi
 tu wakacji 2019\n\n🎵 ONA BY TAK CHCIAŁA\nhttps://www.youtube.com/watch
 ?v=LCcIx6bCcr8\n_____________________\n🎧 DJ's : Dj Dioda | Valamir\n___
 __________________\n📌 WESOŁÓWKA 8a | ⏰ START: 21:00\n📷 INSTAGRAM
 : @clubariffana\n_____________________\n🌎 clubariffana.pl
ATTACH;FMTTYPE=image/jpeg:https://night4u.pl/wp-content/uploads/2019/10/69
 617_image_70456102_2399462366933682_4634201873375559680_o.jpg
CATEGORIES:lubelskie
LOCATION:Club Ariffana Wesołówka\, Wesołowka\, Poland
GEO:51.11862;15.21498
X-APPLE-STRUCTURED-LOCATION;VALUE=URI;X-ADDRESS=Wesołowka\, Poland;X-APPLE
 -RADIUS=100;X-TITLE=Club Ariffana Wesołówka:geo:51.11862,15.21498
END:VEVENT
BEGIN:VTIMEZONE
TZID:Europe/Warsaw
X-LIC-LOCATION:Europe/Warsaw
BEGIN:DAYLIGHT
DTSTART:20190331T030000
TZOFFSETFROM:+0100
TZOFFSETTO:+0200
TZNAME:CEST
END:DAYLIGHT
END:VTIMEZONE
END:VCALENDAR