BEGIN:VCALENDAR
VERSION:2.0
PRODID:-//wp-events-plugin.com//7.2.3.1//EN
TZID:Europe/Warsaw
X-WR-TIMEZONE:Europe/Warsaw
BEGIN:VEVENT
UID:21264@night4u.pl
DTSTART;TZID=Europe/Warsaw:20190713T210000
DTEND;TZID=Europe/Warsaw:20190714T040000
DTSTAMP:20190704T192437Z
URL:https://night4u.pl/wydarzenia/%e2%98%85-skytech-%e2%98%85-sobota-13-07
 -%e2%98%85-club-kotwica-szymbark-2/
SUMMARY:★ Skytech ★ Sobota 13.07 ★ Club Kotwica Szymbark
DESCRIPTION:★ Skytech ★ Club Kotwica Szymbark\n13.07.2019 - SOBOTA\n\nJ
 uż 13 lipca tego roku swojego seta w naszym klubie zaprezentuje Skytech! 
 ? Dj i producent z Polski znany na całym świecie. Na swoim koncie ma nie
 zliczoną ilość produkcji\, które wydawane są w najlepszych światowyc
 h wytwórniach muzycznych\, między innymi w Spinnin Records ? \n\nNie mo
 żecie tego przegapić - bądźcie razem z nami! ?\nGorąco zapraszamy ?\n
 \n▬▬▬▬▬▬▬▬▬\n#INFO\nREZERWACJA LOŻY ? 608 638 424\n? Ws
 tęp: 15zł\n\nSzymbark\, ul. Sportowa 23\n▬▬▬▬▬▬▬▬▬\nWB
 IJ DO NAS NA INSTA ▶ www.instagram.com/clubkotwica
ATTACH;FMTTYPE=image/jpeg:https://night4u.pl/wp-content/uploads/2019/07/50
 702_image_62350337_3015296205177000_7179883162137264128_o.jpg
CATEGORIES:pomorskie
LOCATION:Disco Club Kotwica\, Sportowa 23\, Szymbark\, 83-315\, Poland
GEO:54.229659;18.108067
X-APPLE-STRUCTURED-LOCATION;VALUE=URI;X-ADDRESS=Sportowa 23\, Szymbark\, 83
 -315\, Poland;X-APPLE-RADIUS=100;X-TITLE=Disco Club Kotwica:geo:54.229659,
 18.108067
END:VEVENT
BEGIN:VTIMEZONE
TZID:Europe/Warsaw
X-LIC-LOCATION:Europe/Warsaw
BEGIN:DAYLIGHT
DTSTART:20190331T030000
TZOFFSETFROM:+0100
TZOFFSETTO:+0200
TZNAME:CEST
END:DAYLIGHT
END:VTIMEZONE
END:VCALENDAR