BEGIN:VCALENDAR
VERSION:2.0
PRODID:-//wp-events-plugin.com//7.2.3.1//EN
TZID:Europe/Warsaw
X-WR-TIMEZONE:Europe/Warsaw
BEGIN:VEVENT
UID:38499@night4u.pl
DTSTART;TZID=Europe/Warsaw:20191207T210000
DTEND;TZID=Europe/Warsaw:20191208T050000
DTSTAMP:20191206T161057Z
URL:https://night4u.pl/wydarzenia/%e2%98%85-sobota-07-12-%e2%98%85-battle-
 djs-%e2%98%85-zloty-kontra-arti-s-%e2%98%85-imperium/
SUMMARY:★ Sobota 07/12 ★ Battle DJ`S ★ Złoty kontra Arti S ★ Imper
 ium
DESCRIPTION:Sobota 07/12 ★ BATTLE DJ`S ★ Złoty kontra Arti S ★ Imper
 ium❗️❗️❗️\n\nCzy jesteście gotowi na potężne trzęsienie zi
 emi w naszym klubie⁉️ Jeśli tak\, to zapraszamy serdecznie w sobotę 
 7 grudnia do Imperium na Pojedynek Dj`ów: Złoty🔥 kontra Arti S🔥\nN
 ie może Was zabraknąć‼️‼️‼️\nDołącz do wydarzenia❗️\n
 ★ Do godz.22 wstęp 1 PLN✔️\n★ Efekty zmrożonego Co2✔️\n☎ R
 ezerwacje loży 605436373✔️\nGorąco zapraszamy💥💥💥\nChcesz ot
 rzymać wstęp dla 6 osób\, lożę i pakiet startowy (%) na mega imprezę
 : sobota 07/12 BATTLE DJ`S❗️❗️❗️\nWystarczy napisać w komenta
 rzu z kim będziecie imprezować i opublikować na swoim FB✔️\nBądźc
 ie czujni - wyniki w sobotę 07/12 godz.19💥💥💥
ATTACH;FMTTYPE=image/jpeg:https://night4u.pl/wp-content/uploads/2019/12/10
 9986_image_78298691_2817072811636382_179368541634428928_o.jpg
CATEGORIES:dolnośląskie
LOCATION:Klub Imperium\, ul. Gdańska 29\, Bolesławiec\, 59-700\, Poland
GEO:51.260342;15.55112
X-APPLE-STRUCTURED-LOCATION;VALUE=URI;X-ADDRESS=ul. Gdańska 29\, Bolesław
 iec\, 59-700\, Poland;X-APPLE-RADIUS=100;X-TITLE=Klub Imperium:geo:51.2603
 42,15.55112
END:VEVENT
BEGIN:VTIMEZONE
TZID:Europe/Warsaw
X-LIC-LOCATION:Europe/Warsaw
BEGIN:STANDARD
DTSTART:20191027T020000
TZOFFSETFROM:+0200
TZOFFSETTO:+0100
TZNAME:CET
END:STANDARD
END:VTIMEZONE
END:VCALENDAR