BEGIN:VCALENDAR
VERSION:2.0
PRODID:-//wp-events-plugin.com//7.2.3.1//EN
TZID:Europe/Warsaw
X-WR-TIMEZONE:Europe/Warsaw
BEGIN:VEVENT
UID:37741@night4u.pl
DTSTART;TZID=Europe/Warsaw:20191130T200000
DTEND;TZID=Europe/Warsaw:20191201T043000
DTSTAMP:20191129T092538Z
URL:https://night4u.pl/wydarzenia/%e2%98%85-sobotnie-andrzejki-%e2%98%85-4
 0-bar-do-22-30-%e2%98%85/
SUMMARY:★ Sobotnie Andrzejki ★ 40% Bar Do 22.30 ★
DESCRIPTION:➤ OPIS\nZapraszamy na sobotnią imprezę andrzejkową:) \n\n
 ➤ KLUBO FLOOR – KLUBOTEKA:\nHouse\, R’n’B\, Latino &amp\; Disco - 
 Dj Sonny Skyez\n\n➤ ART FLOOR – MUZYCZNA POTAŃCÓWKA :\nNajwiększe P
 rzeboje Taneczne Lat 70/80/90 - Dj Tomek\n\n➤ PROMOCJA JESIENNA do 22.30
 !\nPROMOCJA 40%- wódka od 3\,6zł\, drinki od 4\,8zł!!!!\n\n➤ WSTĘP:\
 nPanie: do godziny 22.30 - 5zł\, później 10zł\nPanowie: do godziny 22.
 30 - 10zł\, później 15zł\nWszyscy Andrzeje - wstęp wolny przez cały 
 wieczór!\n\nWstęp dla wszystkich Studentów/Studentek oraz Pań od 20 la
 t i Panów od 23 lat. Zastrzegamy sobie możliwość sprawdzenia legitymac
 ji studenckiej (studenci) lub dowodu osobistego (reszta świata). Dodatkow
 o obowiązuje selekcja:)
ATTACH;FMTTYPE=image/jpeg:https://night4u.pl/wp-content/uploads/2019/11/10
 6053_image_73399913_2759581950761243_7703499912435990528_o.jpg
CATEGORIES:śląskie
LOCATION:Bavitto\, Katowice\, Poland
GEO:50.254238;19.01828
X-APPLE-STRUCTURED-LOCATION;VALUE=URI;X-ADDRESS=Katowice\, Poland;X-APPLE-R
 ADIUS=100;X-TITLE=Bavitto:geo:50.254238,19.01828
END:VEVENT
BEGIN:VTIMEZONE
TZID:Europe/Warsaw
X-LIC-LOCATION:Europe/Warsaw
BEGIN:STANDARD
DTSTART:20191027T020000
TZOFFSETFROM:+0200
TZOFFSETTO:+0100
TZNAME:CET
END:STANDARD
END:VTIMEZONE
END:VCALENDAR