BEGIN:VCALENDAR
VERSION:2.0
PRODID:-//wp-events-plugin.com//7.2.3.1//EN
TZID:Europe/Warsaw
X-WR-TIMEZONE:Europe/Warsaw
BEGIN:VEVENT
UID:42567@night4u.pl
DTSTART;TZID=Europe/Warsaw:20200111T200000
DTEND;TZID=Europe/Warsaw:20200112T043000
DTSTAMP:20200111T184128Z
URL:https://night4u.pl/wydarzenia/%e2%98%85-sobotnie-tany-tany-%e2%98%85-4
 0-bar-do-22-30-%e2%98%85-47/
SUMMARY:★ Sobotnie TANY TANY ★ 40% Bar Do 22.30 ★
DESCRIPTION:➤ OPIS\nSobotnie Bavitto to klasyka gatunku. Poza ucztą muzy
 czną zapewniamy pyszne koktajle w bardzo przystępnych cenach\, sympatycz
 ną obsługę i wręcz rodzinną atmosferę :)\n\n➤ KLUBO FLOOR - KLUBOT
 EKA:\nHouse\, R’n’B\, Latino &amp\; Disco - DJ DANK\n\n➤ ART FLOOR -
  MUZYCZNA POTAŃCÓWKA :\nNajwiększe Przeboje Taneczne Lat 70/80/90 - Dj 
 Loo\n\n➤ PROMOCJA ZIMOWA do 22.30!\nPROMOCJA 40%- wódka od 3\,6zł\, dr
 inki od 4\,8zł!!!!\n\n➤ WSTĘP: \nPanie: do godziny 22.30 - 0zł\, pó
 źniej 10zł\nPanowie: do godziny 22.30 - 5zł\, później 15zł\n\nWstęp
  dla wszystkich Studentów/Studentek oraz Pań od 20 lat i Panów od 23 la
 t. Zastrzegamy sobie możliwość sprawdzenia legitymacji studenckiej (stu
 denci) lub dowodu osobistego (reszta świata). Dodatkowo obowiązuje selek
 cja:)
ATTACH;FMTTYPE=image/jpeg:https://night4u.pl/wp-content/uploads/2020/01/13
 4428_image_81639702_2855174607868643_8503045543881080832_o.jpg
CATEGORIES:śląskie
LOCATION:Bavitto\, Katowice\, Poland
GEO:50.254238;19.01828
X-APPLE-STRUCTURED-LOCATION;VALUE=URI;X-ADDRESS=Katowice\, Poland;X-APPLE-R
 ADIUS=100;X-TITLE=Bavitto:geo:50.254238,19.01828
END:VEVENT
BEGIN:VTIMEZONE
TZID:Europe/Warsaw
X-LIC-LOCATION:Europe/Warsaw
BEGIN:STANDARD
DTSTART:20191027T020000
TZOFFSETFROM:+0200
TZOFFSETTO:+0100
TZNAME:CET
END:STANDARD
END:VTIMEZONE
END:VCALENDAR