BEGIN:VCALENDAR
VERSION:2.0
PRODID:-//wp-events-plugin.com//7.2.3.1//EN
TZID:Europe/Warsaw
X-WR-TIMEZONE:Europe/Warsaw
BEGIN:VEVENT
UID:45266@night4u.pl
DTSTART;TZID=Europe/Warsaw:20200201T200000
DTEND;TZID=Europe/Warsaw:20200202T043000
DTSTAMP:20200131T184126Z
URL:https://night4u.pl/wydarzenia/%e2%98%85-sobotnie-tany-tany-%e2%98%85-4
 0-bar-do-22-30-%e2%98%85-50/
SUMMARY:★ Sobotnie TANY TANY ★ 40% Bar Do 22.30 ★
DESCRIPTION:➤ OPIS\nSobotnie Bavitto to klasyka gatunku. Poza ucztą muzy
 czną zapewniamy pyszne koktajle w bardzo przystępnych cenach\, sympatycz
 ną obsługę i wręcz rodzinną atmosferę :)\n\n➤ KLUBO FLOOR - KLUBOT
 EKA:\nHouse\, R’n’B\, Latino &amp\; Disco - DJ DANK\n\n➤ ART FLOOR -
  MUZYCZNA POTAŃCÓWKA :\nNajwiększe Przeboje Taneczne Lat 70/80/90 - Dj 
 Tomek\n\n➤ PROMOCJA ZIMOWA do 22.30!\nPROMOCJA 40%- wódka od 3\,6zł\, 
 drinki od 4\,8zł!!!!\n\n➤ WSTĘP: \nPanie: do godziny 22.30 - 0zł\, p
 óźniej 10zł\nPanowie: do godziny 22.30 - 5zł\, później 15zł\n\nWst
 ęp dla wszystkich Studentów/Studentek oraz Pań od 20 lat i Panów od 23
  lat. Zastrzegamy sobie możliwość sprawdzenia legitymacji studenckiej (
 studenci) lub dowodu osobistego (reszta świata). Dodatkowo obowiązuje se
 lekcja:)
ATTACH;FMTTYPE=image/jpeg:https://night4u.pl/wp-content/uploads/2020/01/14
 6895_image_83312678_2900846883301415_6717131660405506048_o.jpg
CATEGORIES:śląskie
LOCATION:Bavitto\, Katowice\, Poland
GEO:50.254238;19.01828
X-APPLE-STRUCTURED-LOCATION;VALUE=URI;X-ADDRESS=Katowice\, Poland;X-APPLE-R
 ADIUS=100;X-TITLE=Bavitto:geo:50.254238,19.01828
END:VEVENT
BEGIN:VTIMEZONE
TZID:Europe/Warsaw
X-LIC-LOCATION:Europe/Warsaw
BEGIN:STANDARD
DTSTART:20191027T020000
TZOFFSETFROM:+0200
TZOFFSETTO:+0100
TZNAME:CET
END:STANDARD
END:VTIMEZONE
END:VCALENDAR