BEGIN:VCALENDAR
VERSION:2.0
PRODID:-//wp-events-plugin.com//7.2.3.1//EN
TZID:Europe/Warsaw
X-WR-TIMEZONE:Europe/Warsaw
BEGIN:VEVENT
UID:11258@night4u.pl
DTSTART;TZID=Europe/Warsaw:20190413T210000
DTEND;TZID=Europe/Warsaw:20190414T050000
DTSTAMP:20190329T222609Z
URL:https://night4u.pl/wydarzenia/%e2%98%85-spring-vibes-wytrawni-gracze/
SUMMARY:★ Spring Vibes / Wytrawni Gracze
DESCRIPTION:Wiosenne wibracje tej nocy wypełnią cały klub. Gdy dzień ro
 bi się dłuższy od nocy\, to wypada wrócić do domu o wschodzie słońc
 a\, ale my oczywiście do niczego nie namawiamy! \n\nSTAGE:\n★ Wytrawni 
 Gracze\n+ 21:00 :: Selekcja :: Dress Code\n\n► Wstęp \n♀ do 22 FREE /
  po 22 - 10 PLN\n♂ do 23 - 10 PLN / po 23 - 15 PLN\nKarty VIP & Karty Cl
 ubowe / Wstęp Darmowy\n\n► Rezerwacje Loży\nwww.emenago.com/i/sofamusi
 cclub\n603 224 000
ATTACH;FMTTYPE=image/jpeg:https://night4u.pl/wp-content/uploads/2019/03/29
 251_image_56208319_2091192247626900_2613886589192896512_o.jpg
CATEGORIES:opolskie
LOCATION:Sofa Music Club\, Oleska 102\, Opole\, 45-231\, Poland
GEO:50.681382;17.941253
X-APPLE-STRUCTURED-LOCATION;VALUE=URI;X-ADDRESS=Oleska 102\, Opole\, 45-231
 \, Poland;X-APPLE-RADIUS=100;X-TITLE=Sofa Music Club:geo:50.681382,17.9412
 53
END:VEVENT
BEGIN:VTIMEZONE
TZID:Europe/Warsaw
X-LIC-LOCATION:Europe/Warsaw
BEGIN:DAYLIGHT
DTSTART:20190331T030000
TZOFFSETFROM:+0100
TZOFFSETTO:+0200
TZNAME:CEST
END:DAYLIGHT
END:VTIMEZONE
END:VCALENDAR