BEGIN:VCALENDAR
VERSION:2.0
PRODID:-//wp-events-plugin.com//7.2.3.1//EN
TZID:Europe/Warsaw
X-WR-TIMEZONE:Europe/Warsaw
BEGIN:VEVENT
UID:42569@night4u.pl
DTSTART;TZID=Europe/Warsaw:20200109T200000
DTEND;TZID=Europe/Warsaw:20200110T040000
DTSTAMP:20200109T184136Z
URL:https://night4u.pl/wydarzenia/%e2%98%85-studencka-sukienka-bachata-kiz
 omba-bomba-%e2%98%85-2/
SUMMARY:★ Studencka Sukienka + Bachata Kizomba Bomba ★
DESCRIPTION:★ UWAGA NOWOŚCI ★\nW czwartki zapraszamy na 2 imprezy nara
 z :) \nTylko od Ciebie będzie zależało na którym parkiecie (lub przy k
 tórym barze :D) spędzisz więcej czasu :)\n\n★ Strefa ART ★ \nTu  od
 będzie się tak jak zawsze impreza studencka.\n➤Muzyka: STUDENCKI MIKS 
 (Dance\, Black\, Pop\, rock\, Oldschool) - za konsolą - Dj Loo\n\n★ Str
 efa KLUBO ★  \nPrzy współpracy z najpopularniejszą katowicką szkoł
 ą tańca GOOD MOOD\,  odbędzie się impreza w klimatach Bachaty oraz  Ki
 zomby\, wraz z darmową lekcją tańca dla chętnych. \n20:30 - start impr
 ezy\n➤Muzyka: Bachata &amp\; Kizomba - za konsolą - Dj Dronson \n\nRESZ
 TA BEZ ZMIAN:) Czyli:\n\n★ PANIE W LEGGINSACH - DRINK GRATIS! ★\nWszys
 tkie te\, które pojawią się w klubie przed 22.30 w legginsach - otrzyma
 ją od nas DRINKA GRATIS! Do wyboru „Sex On The Sofa” lub „Fresh”.
 \n\n★ SUPER PROMO LISTA FB ★\nDołącz do wydarzenia ("wezmę udział"
 )\, a znajdziesz się na specjalnej liście dzięki czemu: do godziny 23.0
 0 wejdziesz do klubu za FREE oraz otrzymasz 50% RABATU NA BARZE! (na wszys
 tko poza piwem i papierosami). Listę drukujemy o godz. 19 w dniu imprezy.
 \n\n★ CZWARTKOWA STUDENCKA STREFA CEN ★\nprzystępne\, łagodne dla st
 udenckiego portfela ceny przez całą noc!\nPERŁA 0\,5l  - 5zł\nWÓDKA -
  5zł\nSTREFA TANICH DRINKÓW - 7zł\n\n★ WSTĘP ★\nStudenci - do 23.0
 0 - 0zł\, później 5zł\nReszta - do 23.00 - 5zł*\, później 10zł\n\n
 * na hasło: "Bachata Kizomba Bomba" - wstęp bezpłatny :)\n\nWstęp dla 
 wszystkich Studentów/Studentek oraz Pań od 20 lat i Panów od 23 lat. Za
 strzegamy sobie możliwość sprawdzenia legitymacji studenckiej (studenci
 ) lub dowodu osobistego (reszta świata). Dodatkowo obowiązuje selekcja:)
ATTACH;FMTTYPE=image/jpeg:https://night4u.pl/wp-content/uploads/2020/01/13
 4432_image_82542863_2855083711211066_8435382805193555968_o.jpg
CATEGORIES:śląskie
LOCATION:Bavitto\, Katowice\, Poland
GEO:50.254238;19.01828
X-APPLE-STRUCTURED-LOCATION;VALUE=URI;X-ADDRESS=Katowice\, Poland;X-APPLE-R
 ADIUS=100;X-TITLE=Bavitto:geo:50.254238,19.01828
END:VEVENT
BEGIN:VTIMEZONE
TZID:Europe/Warsaw
X-LIC-LOCATION:Europe/Warsaw
BEGIN:STANDARD
DTSTART:20191027T020000
TZOFFSETFROM:+0200
TZOFFSETTO:+0100
TZNAME:CET
END:STANDARD
END:VTIMEZONE
END:VCALENDAR