BEGIN:VCALENDAR
VERSION:2.0
PRODID:-//wp-events-plugin.com//7.2.3.1//EN
TZID:Europe/Warsaw
X-WR-TIMEZONE:Europe/Warsaw
BEGIN:VEVENT
UID:47114@night4u.pl
DTSTART;TZID=Europe/Warsaw:20200221T210000
DTEND;TZID=Europe/Warsaw:20200222T040000
DTSTAMP:20200222T000405Z
URL:https://night4u.pl/wydarzenia/%e2%98%85-super-friday-%e2%98%85-disco-m
 arek-aka-kruszwil-dj-yourant-%e2%98%85-16/
SUMMARY:★ Super Friday ★ Disco Marek aka Kruszwil &amp\; Dj Yourant ★
  16+
DESCRIPTION:★ Super Friday ★\nZapraszamy na zwariowany piątek i ostatk
 i do Face!\n‼Uwaga‼ Wyjątkowo wstęp 16+ !\nPierwszy raz na sali Danc
 e wystąpi...\nDisco Marek aka Lord Kruszwil !!!\nJeden z najbardziej rozp
 oznawalnych youtuberów w Polsce.\nJego kanał jest najszybciej rozwijają
 cym się kanałem serwisu YouTube.\nTwórca nagrania: "Zostań moją kotk
 ą"\nKawałek ten znalazł się na szczycie polskiej karty na czasie na se
 rwisie YouTube\nImprezkę rozkręca Dj Adys!\nMało tego!Gorący temat zap
 owiada się na sali klubowej!\nDJ Yourant &amp\; Dj Cezar Hot Face Mix 
 🔥🔥🔥 Nagrywamy imprezkę!\nZapraszamy już teraz!\n#RezerwacjaStol
 ików - Szybko i wygodnie!\nWystarczy wejść tutaj - http://tinyurl.com/F
 aceClub\nZapraszamy!
ATTACH;FMTTYPE=image/jpeg:https://night4u.pl/wp-content/uploads/2020/02/15
 6992_image_84767664_2328056877295816_5718374493605330944_o.jpg
CATEGORIES:warmińsko-mazurskie
LOCATION:FACE Club ( Olsztyn )\, Orłowicza 6\, Olsztyn\, 10-903\, Poland
GEO:53.754659;20.492838
X-APPLE-STRUCTURED-LOCATION;VALUE=URI;X-ADDRESS=Orłowicza 6\, Olsztyn\, 10
 -903\, Poland;X-APPLE-RADIUS=100;X-TITLE=FACE Club ( Olsztyn ):geo:53.7546
 59,20.492838
END:VEVENT
BEGIN:VTIMEZONE
TZID:Europe/Warsaw
X-LIC-LOCATION:Europe/Warsaw
BEGIN:STANDARD
DTSTART:20191027T020000
TZOFFSETFROM:+0200
TZOFFSETTO:+0100
TZNAME:CET
END:STANDARD
END:VTIMEZONE
END:VCALENDAR