BEGIN:VCALENDAR
VERSION:2.0
PRODID:-//wp-events-plugin.com//7.2.3.1//EN
TZID:Europe/Warsaw
X-WR-TIMEZONE:Europe/Warsaw
BEGIN:VEVENT
UID:4952@night4u.pl
DTSTART;TZID=Europe/Warsaw:20190222T210000
DTEND;TZID=Europe/Warsaw:20190223T050000
DTSTAMP:20190124T160318Z
URL:https://night4u.pl/wydarzenia/%e2%98%85-swagga-extra-dj-sami-f-dj-mido
 /
SUMMARY:★ Swagga Extra / Dj Sami f. Dj Mido
DESCRIPTION:STAGE:\n★ DJ Sami (Frankfurt) f. Mido Deej ★\n+ 21:00 :: Se
 lekcja :: Dress Code\n\n► Wstęp \nPanie/Ladies :: do 22 FREE / po 22 ->
  10 PLN\nPanowie/Gentleman :: do 23 -> 10 PLN / po 23 -> 15 PLN\n$ Karty V
 IP & Karty Clubowe $ -> Wstęp Darmowy\n\n► Rezerwacje Loży\n+ www.emen
 ago.com/i/sofamusicclub\n+ 603 224 000
ATTACH;FMTTYPE=image/jpeg:https://night4u.pl/wp-content/uploads/2019/01/15
 737_image_51041765_2001623159917143_4418559047276429312_o.jpg
CATEGORIES:opolskie
LOCATION:Sofa Music Club\, Oleska 102\, Opole\, 45-231\, Poland
GEO:50.681382;17.941253
X-APPLE-STRUCTURED-LOCATION;VALUE=URI;X-ADDRESS=Oleska 102\, Opole\, 45-231
 \, Poland;X-APPLE-RADIUS=100;X-TITLE=Sofa Music Club:geo:50.681382,17.9412
 53
END:VEVENT
BEGIN:VTIMEZONE
TZID:Europe/Warsaw
X-LIC-LOCATION:Europe/Warsaw
BEGIN:STANDARD
DTSTART:20181028T020000
TZOFFSETFROM:+0200
TZOFFSETTO:+0100
TZNAME:CET
END:STANDARD
END:VTIMEZONE
END:VCALENDAR