BEGIN:VCALENDAR
VERSION:2.0
PRODID:-//wp-events-plugin.com//7.2.3.1//EN
TZID:Europe/Warsaw
X-WR-TIMEZONE:Europe/Warsaw
BEGIN:VEVENT
UID:40832@night4u.pl
DTSTART;TZID=Europe/Warsaw:20191225T200000
DTEND;TZID=Europe/Warsaw:20191226T040000
DTSTAMP:20191225T184124Z
URL:https://night4u.pl/wydarzenia/%e2%98%85-swiateczna-sroda-%e2%98%85-50-
 bar-do-22-30-%e2%98%85/
SUMMARY:★ Świąteczna ŚRODA ★ 50% BAR do 22.30 ★
DESCRIPTION:➤ OPIS\nŚwiąteczne potrawy same się nie spalą:). Dlatego 
 zapraszamy do Bavitto na świąteczną imprezę w niemal rodzinnym gronie:
 ) Z okazji świąt wracamy do promocji "50% rabat na barze" do godziny 22.
 30:)\n\n➤ ART FLOOR - BEST PARTY HITS:\nDance\, Black\, Pop &amp\; Oldsc
 hool - Dj Loo\n\n➤ PROMOCJA JESIENNA do 22.30!\nPROMOCJA 50% - na wszyst
 ko z baru poza piwem i papierosami\nnp. wódka od 3zł\, drinki od 4\,5zł
 !!!!\n\n➤ WSTĘP:\nPanie: do godziny 22.30 - 0zł\, później 5zł\nPano
 wie: do godziny 22.30 - 0zł\, później 10zł\n\nWstęp dla wszystkich St
 udentów/Studentek oraz Pań od 20 lat i Panów od 23 lat. Zastrzegamy sob
 ie możliwość sprawdzenia legitymacji studenckiej (studenci) lub dowodu 
 osobistego (reszta świata). Dodatkowo obowiązuje selekcja:)
ATTACH;FMTTYPE=image/jpeg:https://night4u.pl/wp-content/uploads/2019/12/12
 5306_image_80569629_2820987671287337_4451310376226652160_o.jpg
CATEGORIES:śląskie
LOCATION:Bavitto\, Katowice\, Poland
GEO:50.254238;19.01828
X-APPLE-STRUCTURED-LOCATION;VALUE=URI;X-ADDRESS=Katowice\, Poland;X-APPLE-R
 ADIUS=100;X-TITLE=Bavitto:geo:50.254238,19.01828
END:VEVENT
BEGIN:VTIMEZONE
TZID:Europe/Warsaw
X-LIC-LOCATION:Europe/Warsaw
BEGIN:STANDARD
DTSTART:20191027T020000
TZOFFSETFROM:+0200
TZOFFSETTO:+0100
TZNAME:CET
END:STANDARD
END:VTIMEZONE
END:VCALENDAR