BEGIN:VCALENDAR
VERSION:2.0
PRODID:-//wp-events-plugin.com//7.2.3.1//EN
TZID:Europe/Warsaw
X-WR-TIMEZONE:Europe/Warsaw
BEGIN:VEVENT
UID:41017@night4u.pl
DTSTART;TZID=Europe/Warsaw:20191228T210000
DTEND;TZID=Europe/Warsaw:20191229T040000
DTSTAMP:20191228T095951Z
URL:https://night4u.pl/wydarzenia/%e2%98%85-sylwestrowy-before-%e2%9c%b9-z
 egnamy-stary-rok-%e2%98%85/
SUMMARY:★ Sylwestrowy Before ✹ Żegnamy stary rok ★
DESCRIPTION:Ostatnia impreza w tym roku\, dla Was rozgrzewka przed Sylwestr
 em 🙌 dla nas pożegnanie starego i przywitanie nowego 2020 💥\n\nImpr
 eza w Sylwestrowym stylu czyli hucznie i wesoło 🍾\nZabalujcie razem z 
 nami ten ostatni raz w 2019 💥\n—————————————
 ————————\n🕘 Start: 21:00\n🎫 Wstęp: Do 23:00 15zł.p
 o 20zł.\n☎ Rezerwacje 735 929 414\n————————————
 —————————\nSzykuje na się mega gruby BANG 💥\nDołąc
 z do wydarzenia!\n\nPASSAGE - IMPREZOWE ❤ MIASTA\, KTÓRE BUDZI SIĘ NOC
 Ą!\n🏢 Starogard Gdański\, Ul. Kościuszki 34H
ATTACH;FMTTYPE=image/jpeg:https://night4u.pl/wp-content/uploads/2019/12/12
 7264_image_79458085_162189958497878_341034735608266752_o.jpg
CATEGORIES:pomorskie
LOCATION:Passage\, Ul. Tadeusza Kościuszki 34H\, Starogard Gdanski\, 83-20
 0\, Poland
GEO:53.96417;18.53378
X-APPLE-STRUCTURED-LOCATION;VALUE=URI;X-ADDRESS=Ul. Tadeusza Kościuszki 34
 H\, Starogard Gdanski\, 83-200\, Poland;X-APPLE-RADIUS=100;X-TITLE=Passage
 :geo:53.96417,18.53378
END:VEVENT
BEGIN:VTIMEZONE
TZID:Europe/Warsaw
X-LIC-LOCATION:Europe/Warsaw
BEGIN:STANDARD
DTSTART:20191027T020000
TZOFFSETFROM:+0200
TZOFFSETTO:+0100
TZNAME:CET
END:STANDARD
END:VTIMEZONE
END:VCALENDAR