BEGIN:VCALENDAR
VERSION:2.0
PRODID:-//wp-events-plugin.com//7.2.3.1//EN
TZID:Europe/Warsaw
X-WR-TIMEZONE:Europe/Warsaw
BEGIN:VEVENT
UID:31637@night4u.pl
DTSTART;TZID=Europe/Warsaw:20191109T210000
DTEND;TZID=Europe/Warsaw:20191110T050000
DTSTAMP:20191107T092307Z
URL:https://night4u.pl/wydarzenia/%e2%98%85-united-revolution-toby-green-d
 k-%e2%98%85/
SUMMARY:★ United Revolution - Toby Green (DK) ★
DESCRIPTION:Idziemy za ciosem i nie zwalniamy tempa z naszą sztandarową i
 mprezą #UnitedRevolution! 🔥\nCzas przedstawić kolejnego niesamowitego
  gościa\, który do tej pory nie miał jeszcze okazji wystąpić w naszym
  kraju!😎\n\n9 Listopada będziemy mieli zaszczyt gościć w naszym klub
 ie czołowego gracza światowej sceny EDM\, jakim niewątpliwie jest Duńs
 ki Dj -  Toby Green!🙂🔥\nToby to jeden z najbardziej utalentowanych i
  charakterystycznych artystów młodego pokolenia! 🔥\nW wieku 22 lat ud
 ało mu się uzyskać milionowe wyświetlenia swoich utworów na wszystkic
 h możliwych platformach muzycznych. 😎🙆🏻‍♂️\nJego nagrania 
 zostały wydane w takich wytwórniach jak: Spinnin Records\, Tiesto’s Mu
 sical Freedom\, Hardwell Revealed Recordings czy Hexagon Don'a Diablo. ❤
 ️\nDo absolutnych hitów\, które podbijają muzyczne parkiety na całym
  świecie\, możemy zaliczyć "Everytime" "Firebird" "High" czy też wydan
 e w ostatnim czasie przez niego "Party People" lub "POP" 🔥😎\nSupport
  dla gwiazdy wieczoru zapewni organizator i pomysłodawca projektu We Love
  Swedish House (We Are The Future) - Thomas Cloud. 👊😎\nJedno jest pe
 wne - jeśli kochacie dobrą muzykę i festiwalowy klimat\, to nie możeci
 e przegapić tej niesamowitej imprezy\, jaką jest #UnitedRevolution 🌟
ATTACH;FMTTYPE=image/jpeg:https://night4u.pl/wp-content/uploads/2019/10/74
 196_image_71960660_2491251207632677_3868973812309557248_o.jpg
CATEGORIES:wielkopolskie
LOCATION:Manhattan CLUB Czekanów\, ul. Lewkowska 3\, Czekanów\, 63-410\, 
 Poland
GEO:51.676203;17.869596
X-APPLE-STRUCTURED-LOCATION;VALUE=URI;X-ADDRESS=ul. Lewkowska 3\, Czekanów
 \, 63-410\, Poland;X-APPLE-RADIUS=100;X-TITLE=Manhattan CLUB Czekanów:geo
 :51.676203,17.869596
END:VEVENT
BEGIN:VTIMEZONE
TZID:Europe/Warsaw
X-LIC-LOCATION:Europe/Warsaw
BEGIN:STANDARD
DTSTART:20191027T020000
TZOFFSETFROM:+0200
TZOFFSETTO:+0100
TZNAME:CET
END:STANDARD
END:VTIMEZONE
END:VCALENDAR