BEGIN:VCALENDAR
VERSION:2.0
PRODID:-//wp-events-plugin.com//7.2.3.1//EN
TZID:Europe/Warsaw
X-WR-TIMEZONE:Europe/Warsaw
BEGIN:VEVENT
UID:16863@night4u.pl
DTSTART;TZID=Europe/Warsaw:20190525T210000
DTEND;TZID=Europe/Warsaw:20190526T050000
DTSTAMP:20190522T094342Z
URL:https://night4u.pl/wydarzenia/%e2%98%85-urodzinowy-melanz-quiza-cj-sto
 ne-l-diabllo-%e2%98%85-magnes-club/
SUMMARY:★ Urodzinowy Melanż Quiza - CJ Stone l Diabllo ★ Magnes CLUB
DESCRIPTION:Czas na kolejną osiemnastkę Dj Quiz - w najbliższą sobotę 
 zapraszamy Was na Jego #TURBO URODZINY! ? ? ♥️\n\nGoście specjalni te
 j nocy to - CJ STONE i DIABLLO AKA COORBY! ?\n\nDopisujcie się do wydarze
 nia!
ATTACH;FMTTYPE=image/jpeg:https://night4u.pl/wp-content/uploads/2019/05/41
 319_image_60502333_1160676760723434_480845859647389696_o.jpg
CATEGORIES:wielkopolskie
LOCATION:Magnes CLUB Wtórek\, Wtórek\, Poland
GEO:51.635558;17.901188
X-APPLE-STRUCTURED-LOCATION;VALUE=URI;X-ADDRESS=Wtórek\, Poland;X-APPLE-RA
 DIUS=100;X-TITLE=Magnes CLUB Wtórek:geo:51.635558,17.901188
END:VEVENT
BEGIN:VTIMEZONE
TZID:Europe/Warsaw
X-LIC-LOCATION:Europe/Warsaw
BEGIN:DAYLIGHT
DTSTART:20190331T030000
TZOFFSETFROM:+0100
TZOFFSETTO:+0200
TZNAME:CEST
END:DAYLIGHT
END:VTIMEZONE
END:VCALENDAR