BEGIN:VCALENDAR
VERSION:2.0
PRODID:-//wp-events-plugin.com//7.2.3.1//EN
TZID:Europe/Warsaw
X-WR-TIMEZONE:Europe/Warsaw
BEGIN:VEVENT
UID:4947@night4u.pl
DTSTART;TZID=Europe/Warsaw:20190201T210000
DTEND;TZID=Europe/Warsaw:20190202T050000
DTSTAMP:20190124T160315Z
URL:https://night4u.pl/wydarzenia/%e2%98%85-weekend-starter-sanchez-en-viv
 o/
SUMMARY:★ Weekend Starter / Sanchez En Vivo
DESCRIPTION:STAGE:\n★ SANCHEZ EN VIVO\n+ 21:00 :: Selekcja :: Dress Code 
 :: Dress Casual\n\n► Wstęp\nPanie/Ladies :: do 22 FREE / po 22 -> 5 PLN
  / po 24 -> 10 PLN\nPanowie/Gentleman :: 10 PLN / po 24 -> 15 PLN\n$ Karty
  VIP & Karty Clubowe $ -> Wstęp FREE\n\n► Rezerwacje Loży\n+ www.emena
 go.com/i/sofamusicclub\n+ 603 224 000
ATTACH;FMTTYPE=image/jpeg:https://night4u.pl/wp-content/uploads/2019/01/15
 727_image_50959519_2001598903252902_1179857675471552512_o.jpg
CATEGORIES:opolskie
LOCATION:Sofa Music Club\, Oleska 102\, Opole\, 45-231\, Poland
GEO:50.681382;17.941253
X-APPLE-STRUCTURED-LOCATION;VALUE=URI;X-ADDRESS=Oleska 102\, Opole\, 45-231
 \, Poland;X-APPLE-RADIUS=100;X-TITLE=Sofa Music Club:geo:50.681382,17.9412
 53
END:VEVENT
BEGIN:VTIMEZONE
TZID:Europe/Warsaw
X-LIC-LOCATION:Europe/Warsaw
BEGIN:STANDARD
DTSTART:20181028T020000
TZOFFSETFROM:+0200
TZOFFSETTO:+0100
TZNAME:CET
END:STANDARD
END:VTIMEZONE
END:VCALENDAR