BEGIN:VCALENDAR
VERSION:2.0
PRODID:-//wp-events-plugin.com//7.2.3.1//EN
TZID:Europe/Warsaw
X-WR-TIMEZONE:Europe/Warsaw
BEGIN:VEVENT
UID:34190@night4u.pl
DTSTART;TZID=Europe/Warsaw:20191102T210000
DTEND;TZID=Europe/Warsaw:20191103T050000
DTSTAMP:20191102T104311Z
URL:https://night4u.pl/wydarzenia/%e2%98%85-whisky-night-%e2%98%85-sobota-
 02-11-2019/
SUMMARY:★ Whisky Night ★ - Sobota - 02.11.2019
DESCRIPTION:★ Whisky Night ★\n\nW sobotę impreza wyjątkowa. Na tę im
 prezę przygotowaliśmy dla Was liczne promocje na naszych barach. Główn
 ym tematem tej nocy będzie Whisky Grants. Podczas tej nocy obowiązywać 
 będą szczególne promocje na ten trunek dla wszystkich klubowiczów. Bę
 dzie to nasza whisky bazowa tej nocy w mega promocyjnej cenie. Zapraszamy 
 wszystkich koneserów oraz smakoszy wybitnych trunków\, zaspokoimy potrze
 by najbardziej wymagających. \n\nZa sterami nasi rezydenci: Legius &amp\;
  Hes\n\n#whiskynight\n#co2show\n#konfettishow\n#caławiaradosizara \n\nBil
 ety w sobotę:\ndo 23:00 - 10 zł\npo 23:00 - 20 zł\n\nZarezerwuj lożę 
 już dziś\, pisz na FB wiadomość prywatną lub dzwoń\nRezerwacje 535 9
 10 017\n#caławiaradosizara
ATTACH;FMTTYPE=image/jpeg:https://night4u.pl/wp-content/uploads/2019/10/87
 660_image_74271343_2790546914297628_3206889438101635072_o.jpg
CATEGORIES:zachodniopomorskie
LOCATION:Sizar Club Koszalin\, ul. Podgrodzie 1a\, Koszalin\, 75-240\, Pola
 nd
GEO:54.19336;16.17842
X-APPLE-STRUCTURED-LOCATION;VALUE=URI;X-ADDRESS=ul. Podgrodzie 1a\, Koszali
 n\, 75-240\, Poland;X-APPLE-RADIUS=100;X-TITLE=Sizar Club Koszalin:geo:54.
 19336,16.17842
END:VEVENT
BEGIN:VTIMEZONE
TZID:Europe/Warsaw
X-LIC-LOCATION:Europe/Warsaw
BEGIN:STANDARD
DTSTART:20191027T020000
TZOFFSETFROM:+0200
TZOFFSETTO:+0100
TZNAME:CET
END:STANDARD
END:VTIMEZONE
END:VCALENDAR