BEGIN:VCALENDAR
VERSION:2.0
PRODID:-//wp-events-plugin.com//7.2.3.1//EN
TZID:Europe/Warsaw
X-WR-TIMEZONE:Europe/Warsaw
BEGIN:VEVENT
UID:33576@night4u.pl
DTSTART;TZID=Europe/Warsaw:20191029T210000
DTEND;TZID=Europe/Warsaw:20191030T050000
DTSTAMP:20191029T225920Z
URL:https://night4u.pl/wydarzenia/%e2%98%85-wielka-integracja-wipil-wm-%e2
 %98%85-%e2%98%9b-29-10-wtorek-%e2%98%9b-cina-club/
SUMMARY:★ Wielka Integracja WIPil &amp\; WM ★ ☛ 29.10 - Wtorek ☛ Ci
 na Club
DESCRIPTION:We wtorek 29 października zapraszamy Was na wielką integracj
 ę kampusu Polibudy WIPil oraz WM. Jak zawsze klub Cina przygotował prawd
 ziwą muzyczną ucztę\, a wszystko to sprawi\, że jest to obowiązkową 
 pozycją w kalendarzu każdego studenta! Na imprezę zapraszamy wszystkich
  opolskich studentów - do godz. 23:00 wszyscy studenci wstęp free.\n\nIm
 prezę prowadzi rezydent klubu Cina: DJ Triks\n\nStudenci do godziny 23:00
  wstęp free\nPo godzinie 23:00 wjazd 7 zł ! \n\nPODSUMOWUJĄC : \n☛   
 Data: 29.10 - WTOREK \n☛   Godzina: 21:00 \n☛   Miejsce: Cina Club \n\
 nJeśli impreza to obowiązkowo przyda się loża :D\nRezerwuj bezpłatnie
  na www.emenago.opole.pl
ATTACH;FMTTYPE=image/jpeg:https://night4u.pl/wp-content/uploads/2019/10/84
 381_image_74381934_2748453361884895_21806545394204672_o.jpg
CATEGORIES:opolskie
LOCATION:Cina Club\, Katowicka 55\, Opole\, 45-061\, Poland
GEO:50.667448;17.93523
X-APPLE-STRUCTURED-LOCATION;VALUE=URI;X-ADDRESS=Katowicka 55\, Opole\, 45-0
 61\, Poland;X-APPLE-RADIUS=100;X-TITLE=Cina Club:geo:50.667448,17.93523
END:VEVENT
BEGIN:VTIMEZONE
TZID:Europe/Warsaw
X-LIC-LOCATION:Europe/Warsaw
BEGIN:STANDARD
DTSTART:20191027T020000
TZOFFSETFROM:+0200
TZOFFSETTO:+0100
TZNAME:CET
END:STANDARD
END:VTIMEZONE
END:VCALENDAR