BEGIN:VCALENDAR
VERSION:2.0
PRODID:-//wp-events-plugin.com//7.2.3.1//EN
TZID:Europe/Warsaw
X-WR-TIMEZONE:Europe/Warsaw
BEGIN:VEVENT
UID:40047@night4u.pl
DTSTART;TZID=Europe/Warsaw:20191227T210000
DTEND;TZID=Europe/Warsaw:20191228T040000
DTSTAMP:20191227T215527Z
URL:https://night4u.pl/wydarzenia/%e2%98%85-x-mas-party-%e2%98%85-swiatecz
 ny-melanz-%e2%98%85-futurysta-%e2%98%85-16-2/
SUMMARY:★ X-MAS Party ★ Świąteczny Melanż ★ Futurysta ★ 16+
DESCRIPTION:Party House zaprasza na Świąteczny Melanż już 27 grudnia\, 
 oczywiście w klubie Futurysta!! :) Wstęp 16+\, a bilety dostępne tylko 
 w klubie w trakcie imprezy.\n\n▀▀▀▀▀▀▀▀▀▀▀▀▀▀
 ▀▀▀▀▀▀▀▀▀\n🎄🎄🎄 ŚWIĄTECZNY MELANŻ\n🎄🎄
 🎄 piątek\, 27 grudnia 2019\n🎄🎄🎄 start 21:00\n🎄🎄🎄 Fut
 urysta\, Łódź\n🎄🎄🎄 Wstęp od 16 lat.\n▄▄▄▄▄▄▄▄
 ▄▄▄▄▄▄▄▄▄▄▄▄▄▄▄ \n\nPo czasie świątecznego
  obżerania\, nadejdzie czas wielkiego imprezowania! :) 😍💥\n\nI tak 
 też nadszedł ten czas na ostatnią wielką imprezę tego roku! Zapraszam
 y tuż po świętach\, już 27 grudnia! 🎅☃️ Ile można siedzieć pr
 zy stole?! Pora wstać i uderzyć w melanż\, więc zapraszamy na X-MAS PA
 RTY\, czyli ŚWIĄTECZNY MELANŻ! 😎 Wielkie zakończenie całego roku\,
  wypełnionego fantastycznymi wydarzeniami\, który warto godnie podsumowa
 ć 🔥🔥🔥 Nie bójmy się zimy i poczujmy magię świąt. Nie damy s
 ię zimowej depresji\, czas rozgrzać parkiet do temperatur plażowych!! 
 💣😁\n\n❌ ATRAKCJE\nJeśli taka impreza to i ATRAKCJI NIE MOŻE ZABR
 AKNĄĆ\, przygotowaliśmy dla Was:\n\n✔️ Lubicie Święta ☃️? Mik
 ołaja 🎅? Renifery 🦌? Mamy dla Was czapki Świętego Mikołaja zupe
 łnie za darmo!! \n\n✔️ Rozdajemy masę gadżetów i prezentów świą
 tecznych! 🤩\n\n✔️ Standardowo opaski FLUO dla każdego:\n💚 ZIELO
 NA - wolny / wolna - dla odważnych szukających wrażeń i miłości 😍
 \n💘 CZERWONA - zajęty/zajęta - mam już partnera ⛔\n\n✔️ Masz u
 rodziny w Święta? Wejdziesz za darmo na imprezkę :)\n\n✔️ Darmowe b
 rowarki\, shoty\, flaszki oraz bony na bar do wygrania w konkursach na wyd
 arzeniu :)\n\n❌ MIEJSCE\nNasza impreza odbędzie się w dobrze znanym i 
 idealnie nadającym się do tej okazji najlepszym klubie mieście - klubie
  Futurysta! Gwarantujemy Wam\, że to idealne miejsce na porządny melanż
  :D! \n\n❌ Gwarantujemy fantastyczną atmosferę oraz niezapomniane prze
 życia\, o które zadbają jedni z najlepszych DJ-ów jakich znacie :)! \n
 \nZaproś do udziału swoich znajomych!\nUDOSTĘPNIJ LINK DO WYDARZENIA NA
  SWOJEJ TABLICY I ZGARNIJ WEJŚCIE FREE!\n\nPODSUMOWANIE:\n▬▬▬▬▬
 ▬▬▬▬\n► ► 27 GRUDNIA 2019\, PIĄTEK\n► ► KLUB FUTURYSTA\, 
 ŁÓDŹ\n► ► START: 21:00\n► ► WSTĘP OD 16 LAT\n► ► WJAZD: 20
  PLN w klubie (nie ma biletów w przedsprzedaży)\n\n★ ★ ★ ★ ★ 
 ★ ★ ★ ★ ★ ★ ★ ★ ★ ★ ★ ★ ★ ★ ★ ★ ★ ★ 
 ★ ★ ★ ★ \n\n🎄 WEJŚCIE FREE 🎄 WEJŚCIE FREE 🎄\n\nKto pier
 wszy ten lepszy! Udostępnij wydarzenie i zaproś min. 200 swoich znajomyc
 h i wrzuć w komentarzu zrzut ekranu jak zapraszasz oraz polub nasz fanpag
 e:\nhttps://www.facebook.com/PLPartyHouse/\n\nWygrywa pierwszych 10 osób!
ATTACH;FMTTYPE=image/jpeg:https://night4u.pl/wp-content/uploads/2019/12/12
 0632_image_78856779_1370496769790008_5043807058944589824_o.jpg
CATEGORIES:łódzkie
LOCATION:Klub Futurysta\, Al. Politechniki 7\, Łódź\, 93-590\, Poland
GEO:51.747169;19.450204
X-APPLE-STRUCTURED-LOCATION;VALUE=URI;X-ADDRESS=Al. Politechniki 7\, Łód
 ź\, 93-590\, Poland;X-APPLE-RADIUS=100;X-TITLE=Klub Futurysta:geo:51.7471
 69,19.450204
END:VEVENT
BEGIN:VTIMEZONE
TZID:Europe/Warsaw
X-LIC-LOCATION:Europe/Warsaw
BEGIN:STANDARD
DTSTART:20191027T020000
TZOFFSETFROM:+0200
TZOFFSETTO:+0100
TZNAME:CET
END:STANDARD
END:VTIMEZONE
END:VCALENDAR