BEGIN:VCALENDAR
VERSION:2.0
PRODID:-//wp-events-plugin.com//7.2.3.1//EN
TZID:Europe/Warsaw
X-WR-TIMEZONE:Europe/Warsaw
BEGIN:VEVENT
UID:26177@night4u.pl
DTSTART;TZID=Europe/Warsaw:20190830T210000
DTEND;TZID=Europe/Warsaw:20190901T030000
DTSTAMP:20190903T190424Z
URL:https://night4u.pl/wydarzenia/%e2%98%85-zakonczenie-wakacji-%e2%98%85-
 czyli-crazy-dance-w-club-wyszynk-%e2%98%85/
SUMMARY:★ Zakończenie Wakacji ★ czyli Crazy Dance w Club Wyszynk ★
DESCRIPTION:Wszystko\, co dobre szybko się kończy... Żegnamy wakacje\, n
 a których naprawdę było miło i będzie co wspominać... W piątek i w 
 sobotę (30\, 31 sierpnia) zapraszamy wszystkich na niepowtarzalne i jedyn
 e w swoim rodzaju ZAKOŃCZENIE ☀ WAKACJI 2019 ❗ Startujemy o 21:00\, g
 ramy do 03:00. Parkiet rozgrzeje DJ K.J. ? Nie zabraknie starych i nowych 
 kawałku z najlepszych muzycznych albumów. Gramy najlepszą muzę w mieś
 cie ? Panie do 23:00 wstęp - 1\,- PLN. Od 23:00 wielkie grillowanie ??? w
  Grill Budce\, aż do 3 rano ❗ Rezerwacje loży pod numerem tel. 13 4361
 227 lub 731 846 556.\n\n? Wpadnij ze znajomymi\, kup na barze flaszkę wó
 dki\, zachowaj paragon\, a do drugiej połówki Finlandii\, Wyborowej\, Bo
 ls\, czy Stock - dzbanek 1l soku otrzymasz GRATIS ❗ Paragon okaż barman
 ce ❗ Nie zapomnieliśmy ? o innych promocjach ❗\n\n❗ Uwaga - KONKURS
  ❗\nDo wygrania 30 darmowych wejściówek - na piątek i sobotę :)\n\nA
 by wygrać należy:\n1. Udostępnić to wydarzenie\,\n2. Napisać komentar
 z\, a w nim dzień\, w którym chcecie być na Imprezie i oznaczyć w nim 
 co najmniej 2 znajomych\,\n3. Wziąć udział w wydarzeniu i zaprosić swo
 ich znajomych.\n\n❌ Wygrywa 60 pierwszych wpisów ❗ ❌\n\n★ Weekend
  PromoBar ★\n? Captain Jack w cenie 6 zł ❗\n? deska dowolnych\, 10 sh
 ot'ów z karty w cenie 40 zł ❗\n\n? Jemy Na Imprezie ❗\nOd godziny 21
 :00 do północy serwujemy pizzę 30cm ? Margherita\, Capriciosa\, Salama\
 , Pollo\, Pepperoni\, Jalapeño\, Pesca oraz ? Kapsalon i Frytki ? Od godz
 iny 23:00 do 03:00 zapraszamy do Grill Budka - do późnych godzin // 30 i
  31 sierpnia ??? nad Wisłokiem ❗\n\n✘ 30\, 31 sierpnia (piątek\, sob
 ota) ✘\n☛ wiek: 18+\n☛ wjazd: 5\,- PLN\, po godz. 22:00: 10\,- PLN\n
 ☛ Panie do godziny 23:00 wchodzą za 1 złoty\n☛ masz dziś urodziny? 
 wchodzisz za FREE\n☛ obowiązuje: door selection\n☛ zaczynamy o 21:00\
 , gramy do 3:00\n☛ za konsoletą: DJ K.J.\n☛ VIP ROOM: zarezerwuj vip'
 owską salę do 10\, 20 osób w cenie 100\,- PLN\n☛ lokal klimatyzowany\
 n☛ ogrzewany ogródek\n☛ w całym klubie dostępne darmowe Wi-Fi\n☛ 
 nie odpowiadamy za rzeczy pozostawione na terenie klubu\n☛ obiekt monito
 rowany\n☛ regulamin klubu: www.wyszynk.com/regulamin-klubu/\n\nBez stroj
 u formalnego\, ubierz się tak jak Ci wygodnie. Aczkolwiek dresy\, bojówk
 i itp. stroje zostawiamy sobie na inną okazję \;) \n\n☎ Rezerwacje ☎
 \nBezpłatne rezerwacje loży przyjmowane są pod numerem tel. 13 4361227 
 od wtorku do piątku od godz. 13:00 do 22:00 oraz w sobotę od 12:00 do 22
 :00 i niedzielę od godziny 12:00 do 20:00 ❗ Codziennie\, w sprawie reze
 rwacji oraz organizacji eventów - od godziny 9:00 do 17:00 dostępny jest
  dla Was numer 731 846 556 oraz 882 478 141 ❗\n\n? Chcesz zorganizować 
 swoje urodziny\, imieniny\, wieczór panieński\, czy kawalerski - ten dzi
 eń jest dla Ciebie. Zgłoś się do Nas ❗\n\nClub Wyszynk zastrzega sob
 ie prawo do selekcji gości i może odmówić wstępu bez podania przyczyn
 y. Wstęp tylko dla osób pełnoletnich.
ATTACH;FMTTYPE=image/jpeg:https://night4u.pl/wp-content/uploads/2019/09/61
 195_image_68884756_401162543870487_5665482521110904832_o.jpg
CATEGORIES:podkarpackie
LOCATION:Pub &amp\; Club Wyszynk\, Okrzei 1\, Krosno\, 38-400\, Poland
GEO:49.696929;21.761701
X-APPLE-STRUCTURED-LOCATION;VALUE=URI;X-ADDRESS=Okrzei 1\, Krosno\, 38-400\
 , Poland;X-APPLE-RADIUS=100;X-TITLE=Pub & Club Wyszynk:geo:49.696929,21.76
 1701
END:VEVENT
BEGIN:VTIMEZONE
TZID:Europe/Warsaw
X-LIC-LOCATION:Europe/Warsaw
BEGIN:DAYLIGHT
DTSTART:20190331T030000
TZOFFSETFROM:+0100
TZOFFSETTO:+0200
TZNAME:CEST
END:DAYLIGHT
END:VTIMEZONE
END:VCALENDAR