BEGIN:VCALENDAR
VERSION:2.0
PRODID:-//wp-events-plugin.com//7.2.3.1//EN
TZID:Europe/Warsaw
X-WR-TIMEZONE:Europe/Warsaw
BEGIN:VEVENT
UID:18340@night4u.pl
DTSTART;TZID=Europe/Warsaw:20190608T210000
DTEND;TZID=Europe/Warsaw:20190609T040000
DTSTAMP:20190605T205404Z
URL:https://night4u.pl/wydarzenia/%e2%98%85-zlot-fanow-vixiarskich-sil-spe
 cjalnych-8-06-19-%e2%98%85/
SUMMARY:★ Zlot Fanów Vixiarskich Sił Specjalnych // 8.06.19 ★
DESCRIPTION:? 8.06.2019 - Club Corrado - Suchowola ?\n\nJuż w najbliższą
  sobotę zapraszamy na potężne wydarzenie na sali klubowej! ⚠☢?\n\n?
  ZLOT FANÓW Vixiarskie Siły Specjalne ?\n\nTej nocy zagrają dla Was prz
 edstawiciele VSS w składzie :\n\n? Bagrol\n? Dj Galus\n? Domagalsky\n\nZa
  sterami nasi niezawodni rezydenci : ?\n?? KORDO\n?? DjX\n\n⬇ Weź udzia
 ł w Wydarzeniu i zgarnij darmowe wejście ⬇ \n★ Zlot Fanów Vixiarski
 ch Sił Specjalnych // 8.06.19 ★\n______________________________________
 ______\n⏰ Start - 21:00\n♥ ♥ ♥ ♥ ♥ ♥ ♥ ♥ ♥ ♥ ♥ ♥
  ♥ ♥ ♥ ♥ ♥ ♥ ♥ ♥\nPAMIĘTAJCIE ! WSZYSCY NA CC !
ATTACH;FMTTYPE=image/jpeg:https://night4u.pl/wp-content/uploads/2019/06/44
 307_image_61864856_2216891188358079_652404686153842688_o.jpg
CATEGORIES:lubelskie
LOCATION:Club Corrado - Suchowola\, województwo Lubelskie\, Suchowola\, 21
 -305\, Poland
GEO:51.701422;22.729619
X-APPLE-STRUCTURED-LOCATION;VALUE=URI;X-ADDRESS=województwo Lubelskie\, Su
 chowola\, 21-305\, Poland;X-APPLE-RADIUS=100;X-TITLE=Club Corrado - Suchow
 ola:geo:51.701422,22.729619
END:VEVENT
BEGIN:VTIMEZONE
TZID:Europe/Warsaw
X-LIC-LOCATION:Europe/Warsaw
BEGIN:DAYLIGHT
DTSTART:20190331T030000
TZOFFSETFROM:+0100
TZOFFSETTO:+0200
TZNAME:CEST
END:DAYLIGHT
END:VTIMEZONE
END:VCALENDAR