BEGIN:VCALENDAR
VERSION:2.0
PRODID:-//wp-events-plugin.com//7.2.3.1//EN
TZID:Europe/Warsaw
X-WR-TIMEZONE:Europe/Warsaw
BEGIN:VEVENT
UID:43517@night4u.pl
DTSTART;TZID=Europe/Warsaw:20200215T210000
DTEND;TZID=Europe/Warsaw:20200216T050000
DTSTAMP:20200215T103015Z
URL:https://night4u.pl/wydarzenia/%e2%98%8515-02%e2%98%85-dj-kris-and-frie
 nds-walentynki-20-%e2%98%85mono-club-szubin%e2%98%85/
SUMMARY:★15.02★ Dj Kris!! //Walentynki 20 ★Mono Club Szubin★
DESCRIPTION:➡️15 LUTY 2020  // WALENTYNKI! MONO CLUB 🔥🖤\n\nLegend
 a Polskiej sceny Klubowej! Organizator i pomysłodawca\, jednego z najwię
 kszych Festiwali w Kraju Sunrise Festival ! KRIS 🔥\n_________   _______
 __    _________  _________\n\nLine Up:\n#Dj Kris\n#Dj Matys\n#DJ DIABLLO a
 ka COORBY\n#Jay Bae\nresident Mariodeejay pres.MDJ.\n\n⭐️Loże⭐️\n
 https://emenago.com/inner/cart/913/42b7364e8e326feaac6eb958870c2d0d/pl?fbc
 lid=IwAR1xyoISuyqN5tXEQZIgETZR3NSU1mydzeE7JrNsKp_JwLxANU74HX1dgOs
ATTACH;FMTTYPE=image/jpeg:https://night4u.pl/wp-content/uploads/2020/01/13
 9177_image_82583096_1577391082398960_5592121498987921408_o.jpg
CATEGORIES:kujawsko-pomorskie
LOCATION:Mono Club\, Kcyńska 44\, Szubin\, 89-200\, Poland
GEO:53.005832;17.721215
X-APPLE-STRUCTURED-LOCATION;VALUE=URI;X-ADDRESS=Kcyńska 44\, Szubin\, 89-2
 00\, Poland;X-APPLE-RADIUS=100;X-TITLE=Mono Club:geo:53.005832,17.721215
END:VEVENT
BEGIN:VTIMEZONE
TZID:Europe/Warsaw
X-LIC-LOCATION:Europe/Warsaw
BEGIN:STANDARD
DTSTART:20191027T020000
TZOFFSETFROM:+0200
TZOFFSETTO:+0100
TZNAME:CET
END:STANDARD
END:VTIMEZONE
END:VCALENDAR