BEGIN:VCALENDAR
VERSION:2.0
PRODID:-//wp-events-plugin.com//7.2.3.1//EN
TZID:Europe/Warsaw
X-WR-TIMEZONE:Europe/Warsaw
BEGIN:VEVENT
UID:31695@night4u.pl
DTSTART;TZID=Europe/Warsaw:20191017T210000
DTEND;TZID=Europe/Warsaw:20191018T040000
DTSTAMP:20191017T014923Z
URL:https://night4u.pl/wydarzenia/%e2%98%85amerykanska-domowka%e2%98%85-ot
 rzesiny-wnopib-umk-l-17-10-l-moon-club/
SUMMARY:★Amerykańska Domówka★ Otrzęsiny WNoPiB UMK l 17.10 l Moon Cl
 ub
DESCRIPTION:Amerykańska Domówka na Otrzęsiny Bezpieczników!! :-)\n\nJu
 ż 17 października wspólnie z Wydziałem Nauk o Polityce i Bezpieczeńst
 wie UMK mamy zaszczyt zaprosić Was na oficjalne Otrzęsiny Wydziału. Tem
 atem przewodnim imprezy będzie Amerykańska Domówka \;)\n---------------
 ------------------\n\nMieliście kiedyś ochotę pojawić się na imprezce
  rodem z „American Pie””? Kto by nie chciał co? Dlatego postanowili
 śmy przenieść ten klimat i atrakcje do nas! I z okazji Otrzęsin Wydzia
 łu Nauk o Polityce i Bezpieczeństwie zorganizować właśnie takie AMERI
 CAN PARTY!\n\nTego wieczoru zrobimy wszystko aby odtworzyć ten szalony kl
 imat:) POMOGĄ W TYM takie ATRAKCJE jak: \n-------------------------------
 --\n\n- CZERWONE KUBKI – oryginalne\, rodem z amerykańskiej domówki\n\
 n- BEER PONG  \n\n- POPCORN - masa popcornu za darmo\n\n- PONCZ - no bo ja
 kże inaczej bez tego \;-)\n---------------------------------\nDodatkowo c
 zekają na Was promki na barze !!! Pamiętajcie o kuponach ze starterów s
 tudenckich \;) \n\nMuzykę prosto zza oceanu zagra dla Was DJ Max\, który
  nie liczy kalorii i zapuszcza same tłuste bity !\n\nWstęp:\nLista Fb i 
 Studenci do 23:00 - FREE\nStudenci po 23:00 - 10 PLN\nReszta świata - 10 
 PLN\n\nAby znaleźć się na Liście Fb wystarczy kliknąć WEZMĘ UDZIAŁ
  i cieszyć się darmową wejściówką. Listę standardowo zamykamy o 20:
 00 w dniu imprezy\n\nRezerwacje stolików oraz wszelkie informacje pod num
 erem 505 059 056 lub wiadomość priv na Fb.\n\nTo będzie impreza inna ni
 ż wszystkie i nie może Was na niej zabraknąć! \nTo nie jest event dla 
 tych grzecznych....
ATTACH;FMTTYPE=image/jpeg:https://night4u.pl/wp-content/uploads/2019/10/74
 834_image_71834794_493543741496729_3274128315056652288_o.jpg
CATEGORIES:kujawsko-pomorskie
LOCATION:Moon Club Toruń\, ul Wysoka 2\, Torun\, 87-100\, Poland
GEO:53.013273;18.609145
X-APPLE-STRUCTURED-LOCATION;VALUE=URI;X-ADDRESS=ul Wysoka 2\, Torun\, 87-10
 0\, Poland;X-APPLE-RADIUS=100;X-TITLE=Moon Club Toruń:geo:53.013273,18.60
 9145
END:VEVENT
BEGIN:VTIMEZONE
TZID:Europe/Warsaw
X-LIC-LOCATION:Europe/Warsaw
BEGIN:DAYLIGHT
DTSTART:20190331T030000
TZOFFSETFROM:+0100
TZOFFSETTO:+0200
TZNAME:CEST
END:DAYLIGHT
END:VTIMEZONE
END:VCALENDAR