BEGIN:VCALENDAR
VERSION:2.0
PRODID:-//wp-events-plugin.com//7.2.3.1//EN
TZID:Europe/Warsaw
X-WR-TIMEZONE:Europe/Warsaw
BEGIN:VEVENT
UID:42065@night4u.pl
DTSTART;TZID=Europe/Warsaw:20200110T210000
DTEND;TZID=Europe/Warsaw:20200111T050000
DTSTAMP:20200109T193012Z
URL:https://night4u.pl/wydarzenia/%e2%98%85balkanski-sylwester-prawoslawny
 %e2%98%85-docek-nove-godine-2019-2020/
SUMMARY:★Bałkański Sylwester Prawosławny★ Doček Nove Godine 2019/20
 20
DESCRIPTION:Bałkański Sylwester Prawosławny ★ Doček Nove Godine 2019-
 2020\n\n★| Prawosławny Sylwester Bałkański\n★| Balkan Orthodox New 
 Years Eve\n★| Doček Nove Godine \n★| дочек Нове Године
 \n★| παραμονή πρωτοχρονιάς\n★| напередод
 ні Нового року \n★| канун Нового года\n\nTuż
  po sylwestrowej nocy świętujemy Nowy Rok ponownie! Tradycją stało si
 ę\, że Sylwester Bałkański to najbardziej szalona impreza roku - w iś
 cie BAŁKAŃSKIM stylu. łączymy się z naszymi Prawosławnymi braćmi i 
 świętujemy jeszcze raz\, (prawie) według kalendarza juliańskiego!\n\n
 ►► KTO ZAGRA ◄◄\n\nZa sterami Dziewczynadilera i nygusy\nhttp://ww
 w.mixcloud.com/dziewczynadilera\nhttps://soundcloud.com/balkanbalanga\n\nB
 ALKAN RAGGA GYPSY PUNK ELECTRO TZIGANE HIP HOP KLEZMER\n\n►►Dziewczyna
 dilera dj znany z umiejętności elektryzującego połączenia tradycyjnej
  bałkańskiej muzyki\, hip-hopu i nowoczesnych elektronicznych brzmień. 
 Jego set dj'ski rozpoczyna się powoli\, nabiera tempa z każdą minutą z
 godnie z bałkańskim credo DURO! (mocniej i mocniej!)\, co sprawia\, że 
 ludzie dostają szału na parkiecie. \nTwórca cyklu imprez BALKAN BALANGA
  i WARSAW GLOBAL BEATS\nSince 2002.\n\n►► DRESS CODE ◄◄\n\nSylwest
 er to wyjątkowa noc\, więc poza dekoracjami stwórzmy wyjątkowy klimat 
 przebierając się! Dajcie się ponieść fanazji :) \n\ntemat:\nBALKAN / 
 ETHNO / GYPSY / GOLD\n\n\nstart: 21:00\nbilety: 10zł - dresscode // 20zł
  pozostali
ATTACH;FMTTYPE=image/jpeg:https://night4u.pl/wp-content/uploads/2020/01/13
 2690_image_81234308_2973958262635430_6878323595500584960_n.jpg
CATEGORIES:pomorskie
LOCATION:Protokultura - Klub Sztuki Alternatywnej\, Ul. Niterów 29B\, Gdan
 sk\, 80-863\, Poland
GEO:54.364798;18.645647
X-APPLE-STRUCTURED-LOCATION;VALUE=URI;X-ADDRESS=Ul. Niterów 29B\, Gdansk\,
  80-863\, Poland;X-APPLE-RADIUS=100;X-TITLE=Protokultura - Klub Sztuki Alt
 ernatywnej:geo:54.364798,18.645647
END:VEVENT
BEGIN:VTIMEZONE
TZID:Europe/Warsaw
X-LIC-LOCATION:Europe/Warsaw
BEGIN:STANDARD
DTSTART:20191027T020000
TZOFFSETFROM:+0200
TZOFFSETTO:+0100
TZNAME:CET
END:STANDARD
END:VTIMEZONE
END:VCALENDAR