BEGIN:VCALENDAR
VERSION:2.0
PRODID:-//wp-events-plugin.com//7.2.3.1//EN
TZID:Europe/Warsaw
X-WR-TIMEZONE:Europe/Warsaw
BEGIN:VEVENT
UID:18117@night4u.pl
DTSTART;TZID=Europe/Warsaw:20190607T210000
DTEND;TZID=Europe/Warsaw:20190608T050000
DTSTAMP:20190603T202655Z
URL:https://night4u.pl/wydarzenia/%e2%98%85kofm%e2%98%85-piatek-07-06-2019
 /
SUMMARY:★Kofm★ - Piątek - 07.06.2019
DESCRIPTION:★KOFM★\n\nJuż w najbliższy piątek\, gość specjalny w n
 aszym klubie. Przedstawiciel młodego pokolenia\, DJ oraz producent muzycz
 ny KOFM . Ambitny\, utalentowany muzycznie oraz bardzo charyzmatyczny. Zap
 raszamy wszystkich fanatyków dobrych klubowych brzmień. Dodatkowo za kon
 soletą  Hes & Chucku.\n\ndo 22:00 wszyscy wjazd FREE\n\nBilety w piątek:
 \ndo 23:00 - 10 zł\npo 23:00 - 15 zł\n\nZarezerwuj lożę już dziś\, p
 isz na FB wiadomość prywatną lub dzwoń\nRezerwacje 739-299-885\n#cała
 wiaradosizara
ATTACH;FMTTYPE=image/jpeg:https://night4u.pl/wp-content/uploads/2019/06/43
 839_image_61816856_2509896435696012_5419814158466023424_o.jpg
CATEGORIES:zachodniopomorskie
END:VEVENT
BEGIN:VTIMEZONE
TZID:Europe/Warsaw
X-LIC-LOCATION:Europe/Warsaw
BEGIN:DAYLIGHT
DTSTART:20190331T030000
TZOFFSETFROM:+0100
TZOFFSETTO:+0200
TZNAME:CEST
END:DAYLIGHT
END:VTIMEZONE
END:VCALENDAR