BEGIN:VCALENDAR
VERSION:2.0
PRODID:-//wp-events-plugin.com//7.2.3.1//EN
TZID:Europe/Warsaw
X-WR-TIMEZONE:Europe/Warsaw
BEGIN:VEVENT
UID:20877@night4u.pl
DTSTART;TZID=Europe/Warsaw:20190706T220000
DTEND;TZID=Europe/Warsaw:20190707T050000
DTSTAMP:20190704T023352Z
URL:https://night4u.pl/wydarzenia/%e2%98%85ladies-night%e2%98%85-w-discopl
 ex-a4/
SUMMARY:★Ladies Night★ w Discoplex A4
DESCRIPTION:Ladies Night na 5 muzycznych parkietach!
ATTACH;FMTTYPE=image/jpeg:https://night4u.pl/wp-content/uploads/2019/07/49
 963_image_65551315_2898154336863273_4307576396563087360_n.jpg
CATEGORIES:opolskie
LOCATION:Discoplex A4\, Pietna\, Poland
GEO:50.451164;17.967762
X-APPLE-STRUCTURED-LOCATION;VALUE=URI;X-ADDRESS=Pietna\, Poland;X-APPLE-RAD
 IUS=100;X-TITLE=Discoplex A4:geo:50.451164,17.967762
END:VEVENT
BEGIN:VTIMEZONE
TZID:Europe/Warsaw
X-LIC-LOCATION:Europe/Warsaw
BEGIN:DAYLIGHT
DTSTART:20190331T030000
TZOFFSETFROM:+0100
TZOFFSETTO:+0200
TZNAME:CEST
END:DAYLIGHT
END:VTIMEZONE
END:VCALENDAR