BEGIN:VCALENDAR
VERSION:2.0
PRODID:-//wp-events-plugin.com//7.2.3.1//EN
TZID:Europe/Warsaw
X-WR-TIMEZONE:Europe/Warsaw
BEGIN:VEVENT
UID:40667@night4u.pl
DTSTART;TZID=Europe/Warsaw:20191228T220000
DTEND;TZID=Europe/Warsaw:20191229T040000
DTSTAMP:20191228T084608Z
URL:https://night4u.pl/wydarzenia/%e2%98%85lider-dance%e2%98%85-%e2%98%85-
 dejw%e2%98%85-%e2%98%85twisterz%e2%98%85-sobota-w-bohemie/
SUMMARY:★Lider Dance★ ★ Dejw★ ★Twisterz★ Sobota w Bohemie
DESCRIPTION:Sobota jakich mało !!! Wystąpią:\nSala Disco - Lider Dance i
  Dejw\,\nSala Klubowa - Twisterz\,\nSala Gold - DJ Rico L.\nZapraszamy\n\n
 Lider Dance - Zaczarowałaś mnie https://youtu.be/YlnOw4H1R-Y\nDEJW - Do
 łeczki  https://youtu.be/zAqT35xgODU\nDaddy Yankee - Gasolina (DJ WAJS &a
 mp\; TWISTERZ Bootleg)\nhttps://youtu.be/DHlu5AQoxG8
ATTACH;FMTTYPE=image/jpeg:https://night4u.pl/wp-content/uploads/2019/12/12
 3725_image_79602423_3897925560224959_4815788872992555008_o.jpg
CATEGORIES:mazowieckie
LOCATION:Klub Bohema\, Kolejowa 3\, Siedlce\, 08-110\, Poland
GEO:52.15774;22.28255
X-APPLE-STRUCTURED-LOCATION;VALUE=URI;X-ADDRESS=Kolejowa 3\, Siedlce\, 08-1
 10\, Poland;X-APPLE-RADIUS=100;X-TITLE=Klub Bohema:geo:52.15774,22.28255
END:VEVENT
BEGIN:VTIMEZONE
TZID:Europe/Warsaw
X-LIC-LOCATION:Europe/Warsaw
BEGIN:STANDARD
DTSTART:20191027T020000
TZOFFSETFROM:+0200
TZOFFSETTO:+0100
TZNAME:CET
END:STANDARD
END:VTIMEZONE
END:VCALENDAR