BEGIN:VCALENDAR
VERSION:2.0
PRODID:-//wp-events-plugin.com//7.2.3.1//EN
TZID:Europe/Warsaw
X-WR-TIMEZONE:Europe/Warsaw
BEGIN:VEVENT
UID:40526@night4u.pl
DTSTART;TZID=Europe/Warsaw:20191220T210000
DTEND;TZID=Europe/Warsaw:20191221T050000
DTSTAMP:20191220T104519Z
URL:https://night4u.pl/wydarzenia/%e2%98%85qbik-koncert-live%e2%98%85-piat
 ek-20-12-2019/
SUMMARY:★Qbik - Koncert Live★ Piątek - 20.12.2019
DESCRIPTION:★Qbik - Koncert Live★\n\nJuż w piątek 20 grudnia przed sa
 mymi świętami\, zapraszamy na MEGA wydarzenie w naszym klubie. Zapraszam
 y na koncert lekko kontrowersyjnego a zarazem popularnego Qbik'a.\nKoncert
  zaczyna się o godzinie 23:00\nPo koncercie Sizarowe klimaty zaserwują n
 asi rezydenci: Legius &amp\; Hes\n\nQbik TOP HITS:\n\nTaka Dama: https://w
 ww.youtube.com/watch?v=uuaf_FQepE0\n4 Pory Roku: https://www.youtube.com/w
 atch?v=9y8sZ6bZtaA\nWyjebane: https://www.youtube.com/watch?v=CY8VJyBIXDE\
 n\nWjazd:\nDo 22:00 - 10 zł\nPo 22:00 - 20 zł\n\nBilety do zakupu w kasi
 e klubu w dniu koncertu.\n\nWstęp na koncert 16+\n\nZarezerwuj lożę ju
 ż dziś\, pisz na FB wiadomość prywatną lub dzwoń\nRezerwacje 535 910
  017\n#caławiaradosizara
ATTACH;FMTTYPE=image/jpeg:https://night4u.pl/wp-content/uploads/2019/12/12
 2580_image_79142852_2893780627307589_1396458356587102208_o.jpg
CATEGORIES:zachodniopomorskie
LOCATION:Sizar Club Koszalin\, ul. Podgrodzie 1a\, Koszalin\, 75-240\, Pola
 nd
GEO:54.19336;16.17842
X-APPLE-STRUCTURED-LOCATION;VALUE=URI;X-ADDRESS=ul. Podgrodzie 1a\, Koszali
 n\, 75-240\, Poland;X-APPLE-RADIUS=100;X-TITLE=Sizar Club Koszalin:geo:54.
 19336,16.17842
END:VEVENT
BEGIN:VTIMEZONE
TZID:Europe/Warsaw
X-LIC-LOCATION:Europe/Warsaw
BEGIN:STANDARD
DTSTART:20191027T020000
TZOFFSETFROM:+0200
TZOFFSETTO:+0100
TZNAME:CET
END:STANDARD
END:VTIMEZONE
END:VCALENDAR