BEGIN:VCALENDAR
VERSION:2.0
PRODID:-//wp-events-plugin.com//7.2.3.1//EN
TZID:Europe/Warsaw
X-WR-TIMEZONE:Europe/Warsaw
BEGIN:VEVENT
UID:42502@night4u.pl
DTSTART;TZID=Europe/Warsaw:20200111T210000
DTEND;TZID=Europe/Warsaw:20200112T040000
DTSTAMP:20200331T192957Z
URL:https://night4u.pl/wydarzenia/%e2%98%85sax-live-act-%e2%98%85-tumilo-m
 afyou-%e2%98%85/
SUMMARY:★Sax Live Act ★ Tumiło # Mafyou ★
DESCRIPTION:❌Live Act w połączeniu z muzyką klubową sprawdza się wy
 śmienicie \n❌Dlatego mamy dla was już plan na najbliższy weekend \n
 ❌Za naszą konsoletą stanie nasz rezydent Mafyou \n❌Live Sax Act Pawe
 ł Polland Tumiło \n❌Rezerwacji stolików możecie  dokonać telefonicz
 nie: + 48 605 208 483 lub online http://tinyurl.com/RezerwacjaWallStreet
ATTACH;FMTTYPE=image/jpeg:https://night4u.pl/wp-content/uploads/2020/01/13
 4177_image_81387002_2531227863790106_5532907248734437376_o.jpg
CATEGORIES:dolnośląskie
LOCATION:Wall Street Club\, Ruska 51\, Wroclaw\, 50-010\, Poland
GEO:51.1104;17.0255
X-APPLE-STRUCTURED-LOCATION;VALUE=URI;X-ADDRESS=Ruska 51\, Wroclaw\, 50-010
 \, Poland;X-APPLE-RADIUS=100;X-TITLE=Wall Street Club:geo:51.1104,17.0255
END:VEVENT
BEGIN:VTIMEZONE
TZID:Europe/Warsaw
X-LIC-LOCATION:Europe/Warsaw
BEGIN:STANDARD
DTSTART:20191027T020000
TZOFFSETFROM:+0200
TZOFFSETTO:+0100
TZNAME:CET
END:STANDARD
END:VTIMEZONE
END:VCALENDAR