BEGIN:VCALENDAR
VERSION:2.0
PRODID:-//wp-events-plugin.com//7.2.3.1//EN
TZID:Europe/Warsaw
X-WR-TIMEZONE:Europe/Warsaw
BEGIN:VEVENT
UID:39640@night4u.pl
DTSTART;TZID=Europe/Warsaw:20191228T210000
DTEND;TZID=Europe/Warsaw:20191229T040000
DTSTAMP:20200331T204019Z
URL:https://night4u.pl/wydarzenia/%e2%98%85sylwestrowy-before-%e2%98%85wal
 l-street-club%e2%98%85/
SUMMARY:★Sylwestrowy Before ★Wall Street Club★
DESCRIPTION:💥Rozgrzewamy przed najdłuższą nocą w roku 💥\n💥Spra
 wdź jak wygląda u nas zwykły sobotni wieczór wyobrazisz sobie jak będ
 zie wyglądać sylwestrowa noc \n💥Music By \nMafyou \nDjluki\n💥Rezer
 wacji stolików możecie  dokonać telefonicznie: + 48 605 208 483 lub onl
 ine http://tinyurl.com/RezerwacjaWallStreet
ATTACH;FMTTYPE=image/jpeg:https://night4u.pl/wp-content/uploads/2019/12/11
 7431_image_75496061_2515062408739985_5814786158529347584_o.jpg
CATEGORIES:dolnośląskie
LOCATION:Wall Street Club\, Ruska 51\, Wroclaw\, 50-010\, Poland
GEO:51.1104;17.0255
X-APPLE-STRUCTURED-LOCATION;VALUE=URI;X-ADDRESS=Ruska 51\, Wroclaw\, 50-010
 \, Poland;X-APPLE-RADIUS=100;X-TITLE=Wall Street Club:geo:51.1104,17.0255
END:VEVENT
BEGIN:VTIMEZONE
TZID:Europe/Warsaw
X-LIC-LOCATION:Europe/Warsaw
BEGIN:STANDARD
DTSTART:20191027T020000
TZOFFSETFROM:+0200
TZOFFSETTO:+0100
TZNAME:CET
END:STANDARD
END:VTIMEZONE
END:VCALENDAR