BEGIN:VCALENDAR
VERSION:2.0
PRODID:-//wp-events-plugin.com//7.2.3.1//EN
TZID:Europe/Warsaw
X-WR-TIMEZONE:Europe/Warsaw
BEGIN:VEVENT
UID:3071@night4u.pl
DTSTART;TZID=Europe/Warsaw:20190125T200000
DTEND;TZID=Europe/Warsaw:20190126T030000
DTSTAMP:20190108T171359Z
URL:https://night4u.pl/wydarzenia/%e2%98%86%e2%98%86%e2%98%86-licealna-dom
 owka-%e2%96%baajrish-levels-%e2%96%bamiedzyszkolna-krosno-%e2%98%86%e2%98%
 86%e2%98%86/
SUMMARY:☆☆☆ Licealna Domówka ►Ajrish Levels ►Międzyszkolna Kros
 no ☆☆☆
DESCRIPTION:Zima zagościła do nas już na dobre\, a wszechobecny mróz sp
 rawia\, że nic nikomu się nie chce. Dlatego stając na wysokości zadani
 a mamy dla Was całkiem ciekawą propozycję :D   Tym razem na naszym impr
 ezowym celowniku mamy krośnieńską starówkę\, a dokładnie klub Ajrisz
  Levels.\n\nLicealna Domówka ? O co dokładnie chodzi ?\nPółrocze za pa
 sem\, a nerwy związane z końcem semestru należy odpowiednio odreagować
  !  Tylko doborowe towarzystwo i odpowiednia atmosfera pozwolą nam totaln
 ie się wyluzować.\nDlatego bilety na naszą imprezę w większości traf
 iają na przedsprzedaż\, a w dniu imprezy będzię ich baaardzo ograniczo
 na ilość\, a wszystko po to\, by każdy czuł się jak na typowej domów
 ce\, na którą trzeba mieć specjalne zaproszenie :D \n\n\nChcesz znaleź
 ć się na najbliższej imprezie? Już dziś rezerwuj bilet u promotora w 
 Twojej szkole ! \n\n►►► I LO (kopernik) ◄◄◄\nDominika Gosztył
 a\n☎ 512 300 750\n►►► II LO (guzikówka) ◄◄◄\nAgnieszka Chor
 zępa\n☎ 537924918\n►►► III LO (elekryk) ◄◄◄\nMateusz Wiatr\
 n☎ 797892472\n►►► V LO (szczepanik) ◄◄◄\nEliza Czech\n☎ 53
 3831184\n►►► ZSP nr 4 (naftówka) ◄◄◄\nAnia Szajdek \n73305591
 1\n►►► ZSZ nr 6 (budowlanka) ◄◄◄\nKamil Nowak\n☎ 733853189\n
 \n\nBądźcie czujni\, udostępniajcie wydarzenie \, a my na pewno docenim
 y wasze zaangażowanie \nWarto poświęcić kilka minut pracy\, aby tego d
 nia nie martwić się o wejściókwkę \n\n\nUWAGA! Obowiązuje zasada: sm
 art casual (bez odzieży dresowej). Organizatorzy mają prawo do selekcji 
 uczestników.\n\n\n\nPODSUMOWUJĄC:\n► Start: 25.01.2019 godz. 20:00\n
 ► Bilety :10/15/20  PLN\n► Klimat: Club music\, Radio hits\, Electro\,
  Dance
ATTACH;FMTTYPE=image/jpeg:https://night4u.pl/wp-content/uploads/2019/01/10
 268_image_49693371_2223222801234361_4556757299426754560_o.jpg
CATEGORIES:podkarpackie
END:VEVENT
BEGIN:VTIMEZONE
TZID:Europe/Warsaw
X-LIC-LOCATION:Europe/Warsaw
BEGIN:STANDARD
DTSTART:20181028T020000
TZOFFSETFROM:+0200
TZOFFSETTO:+0100
TZNAME:CET
END:STANDARD
END:VTIMEZONE
END:VCALENDAR