BEGIN:VCALENDAR
VERSION:2.0
PRODID:-//wp-events-plugin.com//7.2.3.1//EN
TZID:Europe/Warsaw
X-WR-TIMEZONE:Europe/Warsaw
BEGIN:VEVENT
UID:1439@night4u.pl
DTSTART;TZID=Europe/Warsaw:20181229T210000
DTEND;TZID=Europe/Warsaw:20181230T040000
DTSTAMP:20181228T204137Z
URL:https://night4u.pl/wydarzenia/%e2%98%86-muzyczne-podsumowanie-roku-%e2
 %98%86-sound-bass-%e2%98%86-zilion-29-12-18-%e2%98%86/
SUMMARY:☆ Muzyczne Podsumowanie Roku ☆ Sound Bass ☆ Zilion // 29.12.1
 8 ☆
DESCRIPTION:⚡ 29.12.2018 - Zilion CLUB - Wrzelowiec ⚡\n\nOstatnia impre
 zowa sobota w tym roku! ⚠\n\n? MUZYCZNE PODSUMOWANIE ROKU ?\n? 2⃣0⃣1
 ⃣8⃣ ?\n\n? Czekamy na Wasze muzyczne propozycje w komentarzach pod pla
 katem! \n\nGOŚĆ SPECJALNY:\n⭐ SOUND BASS ⭐\nDJ & Producent \n\ntwór
 ca hitów:\n\nKohlbecker & Eilmes - TABASCO 2017 (SOUND BASS Bootleg)\n? h
 ttps://www.youtube.com/watch?v=zkoWNM0Tx3I\nArmin van Buuren - In & Out Of
  Love (SOUND BASS Bootleg)\n? https://www.youtube.com/watch?v=-SXKV0jDxuA\
 nShanguy - La Louze (MATSON & SOUND BASS Bootleg)\n? https://www.youtube.c
 om/watch?v=wt9Ho8KQ2yE\n\n? REZYDENCI ?\n\n? Sala DANCE : ? DJ Goryl\n? Sa
 la KLUBOWA : ? DJ Lechu ? DJ HUDY\n_______________________________________
 \n⬇ Weź udział w Wydarzeniu i zgarnij darmowe wejście ⬇ \n☆ Muzyc
 zne Podsumowanie Roku ☆ Sound Bass ☆ Zilion // 29.12.18 ☆\n_________
 ______________________________\n⏰ START - 21:00\n? FOTORELACJA\n♥ ♥ 
 ♥ ♥ ♥ ♥ ♥ ♥ ♥ \nDO ZOBACZENIA W ZILIONIE❗??
ATTACH;FMTTYPE=image/jpeg:https://night4u.pl/wp-content/uploads/2018/12/67
 44_image_49077027_2266835189996425_6787381665917304832_o.jpg
CATEGORIES:lubelskie
LOCATION:Zilion CLUB - Wrzelowiec\, ul. Opolska 3\, Wrzelowiec\, 24-320\, P
 oland
GEO:51.097745;21.932795
X-APPLE-STRUCTURED-LOCATION;VALUE=URI;X-ADDRESS=ul. Opolska 3\, Wrzelowiec\
 , 24-320\, Poland;X-APPLE-RADIUS=100;X-TITLE=Zilion CLUB - Wrzelowiec:geo:
 51.097745,21.932795
END:VEVENT
BEGIN:VTIMEZONE
TZID:Europe/Warsaw
X-LIC-LOCATION:Europe/Warsaw
BEGIN:STANDARD
DTSTART:20181028T020000
TZOFFSETFROM:+0200
TZOFFSETTO:+0100
TZNAME:CET
END:STANDARD
END:VTIMEZONE
END:VCALENDAR