BEGIN:VCALENDAR
VERSION:2.0
PRODID:-//wp-events-plugin.com//7.2.3.1//EN
TZID:Europe/Warsaw
X-WR-TIMEZONE:Europe/Warsaw
BEGIN:VEVENT
UID:47661@night4u.pl
DTSTART;TZID=Europe/Warsaw:20200227T210000
DTEND;TZID=Europe/Warsaw:20200228T020000
DTSTAMP:20200227T054919Z
URL:https://night4u.pl/wydarzenia/%e2%98%86czwartkowe-karaoke%e2%98%86/
SUMMARY:☆Czwartkowe Karaoke☆
DESCRIPTION:Co by tu robić w czwartkowy wieczór? - A może wpaść sobie 
 pośpiewać? :) \n\nZapraszamy na czwartkowe karaoke z nagrodami - jeśli 
 śpiewanie sprawia Ci frajdę i czujesz\, ze to jest to weź udział i pow
 alcz o jedna z nagród:\n\n🥇 5 dych na barze  \n\n🥈 2 dychy na barze
  \n\n🥉dowolna duża pizza w Zielonym Meloniku\n\nNajwiększy wybór utw
 orów w mieście (ponad 6000) zatem u nas masz największą szanse na to\,
  ze zaśpiewasz to co chcesz :) \n\nZapraszamy !!
ATTACH;FMTTYPE=image/jpeg:https://night4u.pl/wp-content/uploads/2020/02/16
 0163_image_86185444_2927234397339753_4961310323555434496_o.jpg
CATEGORIES:zachodniopomorskie
LOCATION:Klub Studencki Pralnia\, Bohaterów Warszawy 75\, Szczecin\, 71-07
 0\, Poland
GEO:53.41969;14.53118
X-APPLE-STRUCTURED-LOCATION;VALUE=URI;X-ADDRESS=Bohaterów Warszawy 75\, Sz
 czecin\, 71-070\, Poland;X-APPLE-RADIUS=100;X-TITLE=Klub Studencki Pralnia
 :geo:53.41969,14.53118
END:VEVENT
BEGIN:VTIMEZONE
TZID:Europe/Warsaw
X-LIC-LOCATION:Europe/Warsaw
BEGIN:STANDARD
DTSTART:20191027T020000
TZOFFSETFROM:+0200
TZOFFSETTO:+0100
TZNAME:CET
END:STANDARD
END:VTIMEZONE
END:VCALENDAR